BEGIN:VCALENDAR
VERSION:2.0
PRODID:-//ChamberMaster//Event Calendar 2.0//EN
METHOD:PUBLISH
X-PUBLISHED-TTL:P3D
REFRESH-INTERVAL:P3D
CALSCALE:GREGORIAN
BEGIN:VEVENT
DTSTART:20210512T223000Z
DTEND:20210513T000000Z
X-MICROSOFT-CDO-ALLDAYEVENT:FALSE
SUMMARY:IN PERSON - Business After Hours
DESCRIPTION:In an effort to support our local restaurants\, we will be charging $20/per person (on site) that will cover your 2 drinks (beer\, wine or soda\, food) and then it's cash bar. All funds collected go directly to the restaurant and will be collected on site. Menu items will be available for purchase to go and MUST BE PREORDRED 24 hours in advance at: https://www.coarseitalian.com/order-online\n\nor you can book a reservation to stay and enjoy your meal.\n\n*****Enter to win a Golf Foursome from Glenview Park Golf Club and Meals from Eat Purely********\n\n\n\nA monthly gathering that helps forge new business relationships and renew existing bonds\, Business After Hours rotates among Member businesses and provides a relaxed\, casual atmosphere.  This s an excellent opportunity to finish the business day in the company of fellow Members and grow your circle of contacts. Drop by to unwind and connect with your local business community.\n\n **This event is open only to Chamber members and prospective Chamber members.**
X-ALT-DESC;FMTTYPE=text/html:<p><span style="font-family:&quot\;Arial&quot\;\,&quot\;sans-serif&quot\;\;color:#666666"><span style="font-size:14px\;"><strong>In an effort to support our local restaurants\, we will be charging $20/per person (on site) that will cover your 2&nbsp\;drinks (beer\, wine or soda\, food) and&nbsp\;then it&#39\;s cash bar. All funds collected go directly to the restaurant and will be collected on site. Menu items will be available for purchase to go and MUST BE PREORDRED 24 hours in advance at:&nbsp\;</strong></span></span><span style="font-size:14px\;"><strong>https://www.coarseitalian.com/order-online<br />\nor you can book a reservation to stay and enjoy your meal.<br />\n*****Enter to win a Golf Foursome from Glenview Park Golf Club and Meals from Eat Purely********</strong></span><br />\n<br />\n<span style="color: rgb(102\, 102\, 102)\; font-family: Arial\, sans-serif\;">A monthly gathering that helps forge new business relationships and renew existing bonds\, Business After Hours rotates among Member businesses and provides a relaxed\, casual atmosphere.&nbsp\; This s an excellent opportunity to finish the business day in the company of fellow Members and grow your circle of contacts. Drop by to unwind and connect with your local business</span><span class="apple-converted-space" style="color: rgb(102\, 102\, 102)\; font-family: Arial\, sans-serif\;">&nbsp\;</span><span style="color: rgb(102\, 102\, 102)\; font-family: Arial\, sans-serif\;">community.</span></p>\n\n<p><span style="font-family:&quot\;Arial&quot\;\,&quot\;sans-serif&quot\;\;color:#666666">&#8203\;**</span><span font-size:="" ms="" sans=""><span style="font-size: 10pt\; font-family: Arial\, sans-serif\;">This</span><span class="apple-converted-space"><span font-size:="" ms="" sans="">&nbsp\;</span>event is open only to Chamber members and prospective Chamber members.**</span><o:p></o:p></span></p>\n
LOCATION:******OUTSIDE EVENT********** Coarse Italian 800 Shermer Road Glenview
UID:e.434.7933
SEQUENCE:3
DTSTAMP:20260422T132456Z
URL:https://business.glenviewchamber.com/events/details/in-person-business-after-hours-7933
END:VEVENT

END:VCALENDAR
