BEGIN:VCALENDAR
VERSION:2.0
PRODID:-//ChamberMaster//Event Calendar 2.0//EN
METHOD:PUBLISH
X-PUBLISHED-TTL:P3D
REFRESH-INTERVAL:P3D
CALSCALE:GREGORIAN
BEGIN:VEVENT
DTSTART:20210518T223000Z
DTEND:20210519T000000Z
X-MICROSOFT-CDO-ALLDAYEVENT:FALSE
SUMMARY:IN PERSON Young Professionals Group Networking
DESCRIPTION:Please join us for our Young Professionals Group (YPG) Networking at Blended Health & Smoothie Bar\, 950 Harlem Avenue. Free appetizers\,  drinks and raffles for this event. We are excited to hear your 2021 professional goals and want to see how YPG can help you achieve these goals.
X-ALT-DESC;FMTTYPE=text/html:<span style="font-size:14px\;"><span style="font-family:tahoma\;"><span style="color: rgb(76\, 76\, 83)\;">Please join us for our Young Professionals Group (YPG) Networking at Blended Health &amp\; Smoothie Bar\, 950 Harlem Avenue. Free appetizers\,&nbsp\; drinks and raffles for this event. We are excited to hear your 2021 professional goals and want to see how YPG can help you achieve these goals.&nbsp\;</span></span></span>
LOCATION:Blended Health & Smoothie Bar 950 Harlem Avenue Glenview
UID:e.434.10547
SEQUENCE:3
DTSTAMP:20260422T120203Z
URL:https://business.glenviewchamber.com/events/details/in-person-young-professionals-group-networking-10547
END:VEVENT

END:VCALENDAR
