BEGIN:VCALENDAR
VERSION:2.0
PRODID:-//ChamberMaster//Event Calendar 2.0//EN
METHOD:PUBLISH
X-PUBLISHED-TTL:P3D
REFRESH-INTERVAL:P3D
CALSCALE:GREGORIAN
BEGIN:VEVENT
DTSTART:20240426T133000Z
DTEND:20240426T150000Z
X-MICROSOFT-CDO-ALLDAYEVENT:FALSE
SUMMARY:Informational Breakfast about Cook County Manufacturing Reinvented Grants
DESCRIPTION:Come to this free breakfast to learn more about the Manufacturing Reinvented grant program from Commissioners Scott Britton\, Kevin Morrison\, and Maggie Trevor.\n\n\n\nManufacturing Reinvented is a $5 million grant program that supports local manufacturers in implementing projects to improve their business as they continue to rebound and rebuild from the COVID-19 pandemic. This program offers a highly customizable approach to address specific company needs related to accessing customers and new markets\, operational improvements\, leadership development and talent solutions.
X-ALT-DESC;FMTTYPE=text/html:<p><span style="font-family:&quot\;Times&quot\;\,&quot\;serif&quot\;\;color:black">Come to this free breakfast to learn more about the Manufacturing Reinvented grant program from Commissioners Scott Britton\, Kevin Morrison\, and Maggie Trevor.<br />\n<br />\nManufacturing Reinvented is a $5 million grant program that supports local manufacturers in implementing projects to improve their business as they continue to rebound and rebuild from the COVID-19 pandemic. This program offers a highly customizable approach to address specific company needs related to accessing customers and new markets\, operational improvements\, leadership development and talent solutions.&nbsp\;</span><o:p></o:p></p>\n
LOCATION:Rolling Meadows City Hall 3600 Kirchoff Road Rolling Meadows\, IL 60008
UID:e.434.10961
SEQUENCE:3
DTSTAMP:20260420T132915Z
URL:https://business.glenviewchamber.com/events/details/informational-breakfast-about-cook-county-manufacturing-reinvented-grants-10961
END:VEVENT

END:VCALENDAR
