BEGIN:VCALENDAR
VERSION:2.0
PRODID:-//ChamberMaster//Event Calendar 2.0//EN
METHOD:PUBLISH
X-PUBLISHED-TTL:P3D
REFRESH-INTERVAL:P3D
CALSCALE:GREGORIAN
BEGIN:VEVENT
DTSTART:20231209T183000Z
DTEND:20231209T193000Z
X-MICROSOFT-CDO-ALLDAYEVENT:FALSE
SUMMARY:Intro to Cycle
DESCRIPTION:Cycling is a healthy\, low-impact exercise that can be enjoyed by people of all ages\, from young children to older adults. It is also fun\, cheap and good for the environment. Riding to work or the shops is one of the most time-efficient ways to combine regular exercise with your everyday routine. An estimated one billion people ride bicycles every day   for transport\, recreation and sport.
X-ALT-DESC;FMTTYPE=text/html:Cycling is a healthy\, low-impact exercise that can be enjoyed by people of all ages\, from young children to older adults. It is also fun\, cheap and good for the environment. Riding to work or the shops is one of the most time-efficient ways to combine regular exercise with your everyday routine. An estimated one billion people ride bicycles every day &ndash\; for transport\, recreation and sport.
LOCATION:North Suburban YMCA\, 2705 Techny Rd. Northbrook. IL 60062
UID:e.434.10871
SEQUENCE:3
DTSTAMP:20260420T202757Z
URL:https://business.glenviewchamber.com/events/details/intro-to-cycle-10871
END:VEVENT

END:VCALENDAR
