BEGIN:VCALENDAR
VERSION:2.0
PRODID:-//ChamberMaster//Event Calendar 2.0//EN
METHOD:PUBLISH
X-PUBLISHED-TTL:P3D
REFRESH-INTERVAL:P3D
CALSCALE:GREGORIAN
BEGIN:VEVENT
DTSTART:20240912T160000Z
DTEND:20240912T170000Z
X-MICROSOFT-CDO-ALLDAYEVENT:FALSE
SUMMARY:Investment Fraud
DESCRIPTION:This money smart will cover a range of illegal activities involving the deception of investors. Together with this discussion\, we would also have a representative from Wintrust Wealth that provides a review of the investment environment\, financial investment options for older adults\, and the importance of estate planning.
X-ALT-DESC;FMTTYPE=text/html:This money smart will cover a range of illegal activities involving the deception of investors. Together with this discussion\, we would also have a representative from Wintrust Wealth that provides a review of the investment environment\, financial investment options for older adults\, and the importance of estate planning.
LOCATION:Virtual
UID:e.434.11004
SEQUENCE:3
DTSTAMP:20260420T105347Z
URL:https://business.glenviewchamber.com/events/details/investment-fraud-11004
END:VEVENT

END:VCALENDAR
