BEGIN:VCALENDAR
VERSION:2.0
PRODID:-//ChamberMaster//Event Calendar 2.0//EN
METHOD:PUBLISH
X-PUBLISHED-TTL:P3D
REFRESH-INTERVAL:P3D
CALSCALE:GREGORIAN
BEGIN:VEVENT
DTSTART:20190517T130000Z
DTEND:20190517T190000Z
X-MICROSOFT-CDO-ALLDAYEVENT:FALSE
SUMMARY:Leadership Glenview
DESCRIPTION:Session VIII: Recreational and Natural Resources and Forest Preserve Tour & Graduation Lunch
X-ALT-DESC;FMTTYPE=text/html:Session VIII: Recreational and Natural Resources and Forest Preserve Tour &amp\; Graduation Lunch
LOCATION:8:00 a.m. - Harms Woods Meet in the small parking lot on the west side of Harms Road just south of Glenview Road. The sign reads "Glenview Woods". It is directly across from 711 Harms Rd\, Glenview 9:30-2:00 Lakeview Room\, Park Center\, 2400 Chestnut Ave\, Glenview\, IL
UID:e.434.10104
SEQUENCE:3
DTSTAMP:20260426T001145Z
URL:https://business.glenviewchamber.com/events/details/leadership-glenview-10104
END:VEVENT

END:VCALENDAR
