BEGIN:VCALENDAR
VERSION:2.0
PRODID:-//ChamberMaster//Event Calendar 2.0//EN
METHOD:PUBLISH
X-PUBLISHED-TTL:P3D
REFRESH-INTERVAL:P3D
CALSCALE:GREGORIAN
BEGIN:VEVENT
DTSTART:20210621T130000Z
DTEND:20210621T140000Z
X-MICROSOFT-CDO-ALLDAYEVENT:FALSE
SUMMARY:Leadership Glenview Alumni Coffee
DESCRIPTION:We wanted to reconnect with our Leadership Glenview Alumni and advisory team for coffee at Glenview Grind. Join us from 8-9am OUTSIDE at Glenview Grind at 1837 Glenview Road. Regular/decaf coffee and light breakfast will be provided. Other items and specialty coffees are available for purchase.\n\n \n\nOur next session will be starting in September and would love to hear from you with any referrals. As you know\, this is such a highly coveted program that leads you through all areas of the Village. Even if you grew up in Glenview or lived here for 20 years\, you will learn something new.
X-ALT-DESC;FMTTYPE=text/html:We wanted to reconnect with our Leadership Glenview Alumni and advisory team for coffee at Glenview Grind. Join us from 8-9am OUTSIDE at Glenview Grind at 1837 Glenview Road. Regular/decaf coffee and light breakfast will be provided. Other items and specialty coffees are available for purchase.<br />\n&nbsp\;<br />\nOur next session will be starting in September and would love to hear from you with any referrals. As you know\, this is such a highly coveted program that leads you through all areas of the Village. Even if you grew up in Glenview or lived here for 20 years\, you will learn something new.<br />\n<br />\n&nbsp\;
LOCATION:Glenview Grind 1837 Glenview Road
UID:e.434.10554
SEQUENCE:3
DTSTAMP:20260422T143047Z
URL:https://business.glenviewchamber.com/events/details/leadership-glenview-alumni-coffee-10554
END:VEVENT

END:VCALENDAR
