BEGIN:VCALENDAR
VERSION:2.0
PRODID:-//ChamberMaster//Event Calendar 2.0//EN
METHOD:PUBLISH
X-PUBLISHED-TTL:P3D
REFRESH-INTERVAL:P3D
CALSCALE:GREGORIAN
BEGIN:VEVENT
DTSTART;VALUE=DATE:20190801
DTEND;VALUE=DATE:20190802
TRANSP:TRANSPARENT
X-MICROSOFT-CDO-ALLDAYEVENT:TRUE
SUMMARY:Leadership Glenview Application Deadline
DESCRIPTION:Designed to inform and inspire new leaders in the community\, Leadership Glenview is a dynamic program that meets monthly\, starting on September 6\, 2019 and ending May 1\, 2020.\n\n\n\nSelected participants will learn about the Village\, connect with like-minded leaders\, and gain team-building skills\, while preparing to contribute to improving Glenview's future. A must for corporate communicators\, nonprofit managers\, and motivated citizens with a strong interest in Village and an eye for great ideas.\n\n\n\nTake the first step toward a stronger Glenview by applying for a seat in this annual workshop. The maximum class size is 20 participants. Complete the application\, then return it by August 1 by fax 847/724-0202 or scan and email to info@glenviewchamber.com\n\n\n\nClick here for the application.
X-ALT-DESC;FMTTYPE=text/html:Designed to inform and inspire new leaders in the community\, Leadership Glenview is a dynamic program that meets monthly\, starting on September 6\, 2019 and ending May 1\, 2020.<br />\n<br />\nSelected participants will learn about the Village\, connect with like-minded leaders\, and gain team-building skills\, while preparing to contribute to improving Glenview&rsquo\;s future. A must for corporate communicators\, nonprofit managers\, and motivated citizens with a strong interest in Village and an eye for great ideas.<br />\n<br />\nTake the first step toward a stronger Glenview by applying for a seat in this annual workshop. The maximum class size is 20 participants. Complete the application\, then return it by August 1 by fax 847/724-0202 or scan and email to info@glenviewchamber.com<br />\n<br />\nClick <a href="https://chambermaster.blob.core.windows.net/userfiles/UserFiles/chambers/434/File/6.24.19LeadershipApplication.pdf">here</a> for the application.&nbsp\;<br />\n<br />\n&nbsp\;
LOCATION:
UID:e.434.10176
SEQUENCE:3
DTSTAMP:20260425T133538Z
URL:https://business.glenviewchamber.com/events/details/leadership-glenview-application-deadline-10176
END:VEVENT

END:VCALENDAR
