BEGIN:VCALENDAR
VERSION:2.0
PRODID:-//ChamberMaster//Event Calendar 2.0//EN
METHOD:PUBLISH
X-PUBLISHED-TTL:P3D
REFRESH-INTERVAL:P3D
CALSCALE:GREGORIAN
BEGIN:VEVENT
DTSTART:20190416T164500Z
DTEND:20190416T181500Z
X-MICROSOFT-CDO-ALLDAYEVENT:FALSE
SUMMARY:Lunch & Learn
DESCRIPTION:The Lunch and Learn Series will be conducted by local business experts\, Chamber board members and our Chamber partners. The series will feature a wide variety of topics that are helpful for anyone involved with a business\, from owners and managers to entry-level employees. \n\nValues and takeaways from this session:\n\n	Learn more about the latest trends in the world of digital marketing and how they can be applied to your business.\n	Discuss some of the key distinctions that separate SEO and SEM\, and the benefits of utilizing each as a part of your marketing strategy.\n	Gain insight on the benefits of social media marketing in building brand awareness and generating leads.\n	Learn how to more effectively track the success of your campaign and increase ROI.
X-ALT-DESC;FMTTYPE=text/html:<span style="color: rgb(76\, 76\, 83)\; font-family: &quot\;Helvetica Neue&quot\;\, Helvetica\, Arial\, sans-serif\; font-size: 14px\;">The Lunch and Learn Series will be conducted by local business experts\, Chamber board members and our Chamber partners. The series will feature a wide variety of topics that are helpful for anyone involved with a business\, from owners and managers to entry-level employees.&nbsp\;<br />\nValues and takeaways from this session:</span>\n<ol>\n	<li>Learn more about the latest trends in the world of digital marketing and how they can be applied to your business.</li>\n	<li>Discuss some of the key distinctions that separate SEO and SEM\, and the benefits of utilizing each as a part of your marketing strategy.</li>\n	<li>Gain insight on the benefits of social media marketing in building brand awareness and generating leads.</li>\n	<li>Learn how to more effectively track the success of your campaign and increase ROI.</li>\n</ol>\n
LOCATION:Hosted by: Stratosphere Networks\, Topic: SOS/Digital Marketing Chamber Office 2222 Chestnut Avenue 3rd Floor Conference Room
UID:e.434.10097
SEQUENCE:3
DTSTAMP:20260426T014011Z
URL:https://business.glenviewchamber.com/events/details/lunch-learn-10097
END:VEVENT

END:VCALENDAR
