BEGIN:VCALENDAR
VERSION:2.0
PRODID:-//ChamberMaster//Event Calendar 2.0//EN
METHOD:PUBLISH
X-PUBLISHED-TTL:P3D
REFRESH-INTERVAL:P3D
CALSCALE:GREGORIAN
BEGIN:VEVENT
DTSTART:20190916T164500Z
DTEND:20190916T181500Z
X-MICROSOFT-CDO-ALLDAYEVENT:FALSE
SUMMARY:Lunch & Learn
DESCRIPTION:Lunch & Learn at aFresh Med Spa\n\nTopic: Facial Rejuvenation - turn back the clock on aging.  How to look 5 - 10 years younger with  nonsurgical & surgical options.  What also helps?  Having the right Skincare products.
X-ALT-DESC;FMTTYPE=text/html:Lunch &amp\; Learn at aFresh Med Spa<br />\nTopic:&nbsp\;Facial Rejuvenation - turn back the clock on aging.&nbsp\; How to look 5 - 10 years younger with&nbsp\; nonsurgical &amp\; surgical options.&nbsp\; What also helps?&nbsp\; Having the right Skincare products.
LOCATION:2300 Chestnut Avenue\, Suite 100 Glenview\, IL
UID:e.434.10129
SEQUENCE:3
DTSTAMP:20260425T123029Z
URL:https://business.glenviewchamber.com/events/details/lunch-learn-10129
END:VEVENT

END:VCALENDAR
