BEGIN:VCALENDAR
VERSION:2.0
PRODID:-//ChamberMaster//Event Calendar 2.0//EN
METHOD:PUBLISH
X-PUBLISHED-TTL:P3D
REFRESH-INTERVAL:P3D
CALSCALE:GREGORIAN
BEGIN:VEVENT
DTSTART:20240412T170000Z
DTEND:20240412T180000Z
X-MICROSOFT-CDO-ALLDAYEVENT:FALSE
SUMMARY:Lunch & Learn
DESCRIPTION:Join Amy Alexander from A2 Sales & Marketing for this lunch & learn for content creation. By the end of this workshop\, you'll have a proven content creation cheat sheet to efficiently produce relevant\, value-driven content across formats that authentically engages with your customers and builds a thriving brand community.
X-ALT-DESC;FMTTYPE=text/html:Join&nbsp\;<span style="font-family:tahoma\,sans-serif\;"><span style="font-size:10.0pt\;">Amy Alexander</span></span>&nbsp\;from A2 Sales &amp\; Marketing for this lunch &amp\; learn for content creation. <span class="OYPEnA text-decoration-none text-strikethrough-none" style="color: rgb(0\, 0\, 0)\;">By the end of this workshop\, you&rsquo\;ll have a proven content creation cheat sheet to efficiently produce relevant\, value-driven content across formats that authentically engages with your customers and builds a thriving brand community.</span>
LOCATION:Glenview Public Library 1930 Glenview Road
UID:e.434.10923
SEQUENCE:3
DTSTAMP:20260420T101920Z
URL:https://business.glenviewchamber.com/events/details/lunch-learn-10923
END:VEVENT

END:VCALENDAR
