BEGIN:VCALENDAR
VERSION:2.0
PRODID:-//ChamberMaster//Event Calendar 2.0//EN
METHOD:PUBLISH
X-PUBLISHED-TTL:P3D
REFRESH-INTERVAL:P3D
CALSCALE:GREGORIAN
BEGIN:VEVENT
DTSTART:20190723T164500Z
DTEND:20190723T181500Z
X-MICROSOFT-CDO-ALLDAYEVENT:FALSE
SUMMARY:Lunch & Learn - CANCELLED
DESCRIPTION:THIS EVENT HAS BEEN CANCELLED. \n\n\n\nThe Lunch and Learn Series will be conducted by local business experts\, Chamber board members and our Chamber partners. The series will feature a wide variety of topics that are helpful for anyone involved with a business\, from owners and managers to entry-level employees. \n\n\n\nTurning a Good idea Into a Great Business\n\nBusiness Model and Canvas and Entrepreneurial Operation System\n\nWe will review two great tools: The Business Model Canvas and the Entrepreneurial Operating System (EOS -Traction).\n\n \n\n	Learn the nine parts of the Business Model Canvas\n	How the Canvas helps you effectively analyze effective business models\n	Learn the six components of the Entrepreneurial Operating System (EOS)\n	How the EOS tools helps you align your team and execute your business objectives\n\n \n\nThe session is being presented by SCORE North Cook and Lake County Chapter. Score is the not for profit arm of the Small Business Administration. Score offers free resources to local businesses.
X-ALT-DESC;FMTTYPE=text/html:<span style="color: rgb(76\, 76\, 83)\; font-family: &quot\;Helvetica Neue&quot\;\, Helvetica\, Arial\, sans-serif\; font-size: 14px\;"><u><strong>THIS EVENT HAS BEEN CANCELLED.&nbsp\;</strong></u><br />\n<br />\nThe Lunch and Learn Series will be conducted by local business experts\, Chamber board members and our Chamber partners. The series will feature a wide variety of topics that are helpful for anyone involved with a business\, from owners and managers to entry-level employees.&nbsp\;</span><br />\n<br />\n<strong><span style="color:#1F497D\;"><span style="font-family:calibri\,sans-serif\;"><span style="font-size:14.0pt\;">Turning a Good idea Into a Great Business</span></span></span></strong><br />\n<strong><span style="color:#1F497D\;"><span style="font-family:calibri\,sans-serif\;"><span style="font-size:14.0pt\;">Business Model and Canvas and Entrepreneurial Operation System</span></span></span></strong><br />\n<span style="color:#1F497D\;"><span style="font-family:calibri\,sans-serif\;"><span style="font-size:11.0pt\;">We will review two great tools: The Business Model Canvas and the Entrepreneurial Operating System (EOS -Traction).</span></span></span><br />\n&nbsp\;\n<ul>\n	<li style="background-image:initial\;background-position:initial\;background-size:initial\;background-repeat:initial\;background-attachment:initial\;background-origin:initial\;background-clip:initial\;"><span style="color:#1F497D\;"><span style="font-family:calibri\,sans-serif\;"><span style="font-size:11.0pt\;">Learn the nine parts of the Business Model Canvas</span></span></span></li>\n	<li style="background-image:initial\;background-position:initial\;background-size:initial\;background-repeat:initial\;background-attachment:initial\;background-origin:initial\;background-clip:initial\;"><span style="color:#1F497D\;"><span style="font-family:calibri\,sans-serif\;"><span style="font-size:11.0pt\;">How the Canvas helps you effectively analyze effective business models</span></span></span></li>\n	<li style="background-image:initial\;background-position:initial\;background-size:initial\;background-repeat:initial\;background-attachment:initial\;background-origin:initial\;background-clip:initial\;"><span style="color:#1F497D\;"><span style="font-family:calibri\,sans-serif\;"><span style="font-size:11.0pt\;">Learn the six components of the Entrepreneurial Operating System (EOS)</span></span></span></li>\n	<li style="background-image:initial\;background-position:initial\;background-size:initial\;background-repeat:initial\;background-attachment:initial\;background-origin:initial\;background-clip:initial\;"><span style="color:#1F497D\;"><span style="font-family:calibri\,sans-serif\;"><span style="font-size:11.0pt\;">How the EOS tools helps you align your team and execute your business objectives</span></span></span></li>\n</ul>\n&nbsp\;<br />\n<span style="color:#1F497D\;"><span style="font-family:calibri\,sans-serif\;"><span style="font-size:11.0pt\;">The session is being presented by SCORE North Cook and Lake County Chapter. Score is the not for profit arm of the Small Business Administration. Score offers free resources to local businesses.&nbsp\;</span></span></span>
LOCATION:Atria Glenview 4700 W. Lake Avenue Glenview Hosted by: Atria & SCORE
UID:e.434.10095
SEQUENCE:3
DTSTAMP:20260425T212606Z
URL:https://business.glenviewchamber.com/events/details/lunch-learn-cancelled-10095
END:VEVENT

END:VCALENDAR
