BEGIN:VCALENDAR
VERSION:2.0
PRODID:-//ChamberMaster//Event Calendar 2.0//EN
METHOD:PUBLISH
X-PUBLISHED-TTL:P3D
REFRESH-INTERVAL:P3D
CALSCALE:GREGORIAN
BEGIN:VEVENT
DTSTART:20230718T170000Z
DTEND:20230718T180000Z
X-MICROSOFT-CDO-ALLDAYEVENT:FALSE
SUMMARY:Lunch & Learn: Harnessing Artificial Intelligence for Business Success
DESCRIPTION:Are you a business owner eager to stay ahead of the curve and unlock the true potential of artificial intelligence?\n\nLook no further! PJ Weiland of ActionCOACH is thrilled to present the transformative workshop: "AI Tools for Everyday Business."\n\n \n\nIn today's rapidly evolving landscape\, the power of artificial intelligence cannot be underestimated. It has become a driving force behind innovation\, efficiency\, and unparalleled growth across various industries. Now is the time for you to harness this cutting-edge technology and pave the way for success.\n\n \n\nOur immersive workshop is tailored specifically for business owners like you\, who are ready to unlock the full potential of AI tools and revolutionize the way you operate. Whether you run a small startup or a well-established enterprise\, this workshop is designed to equip you with practical knowledge and real-world strategies that can be applied from day one.\n\n \n\nWhat can you expect from the workshop?\n\n \n\nUnderstanding the AI Landscape\n\n- We will demystify the world of artificial intelligence\n\n- Break down complex concepts into practical terms that you can easily grasp\n\n- Provide an overview of AI technologies and applications\n\n \n\nPractical Applications for Your Business\n\n	Discover how AI can be seamlessly integrated into your daily operations\n	Discuss real-world scenarios and every day applications\n\n \n\nDon't miss out on this exclusive opportunity to unlock the power of artificial intelligence for your business.\n\n \n\nJoin us at the "AI Tools for Everyday Business" workshop and empower your organization with the tools needed to thrive in the AI-driven era.
X-ALT-DESC;FMTTYPE=text/html:Are you a business owner eager to stay ahead of the curve and unlock the true potential of artificial intelligence?<br />\nLook no further! PJ Weiland of ActionCOACH is thrilled to present the transformative workshop: &quot\;AI Tools for Everyday Business.&quot\;<br />\n&nbsp\;<br />\nIn today&#39\;s rapidly evolving landscape\, the power of artificial intelligence cannot be underestimated. It has become a driving force behind innovation\, efficiency\, and unparalleled growth across various industries. Now is the time for you to harness this cutting-edge technology and pave the way for success.<br />\n&nbsp\;<br />\nOur immersive workshop is tailored specifically for business owners like you\, who are ready to unlock the full potential of AI tools and revolutionize the way you operate. Whether you run a small startup or a well-established enterprise\, this workshop is designed to equip you with practical knowledge and real-world strategies that can be applied from day one.<br />\n&nbsp\;<br />\nWhat can you expect from the workshop?<br />\n&nbsp\;<br />\nUnderstanding the AI Landscape<br />\n- We will demystify the world of artificial intelligence<br />\n- Break down complex concepts into practical terms that you can easily grasp<br />\n- Provide an overview of AI technologies and applications<br />\n&nbsp\;<br />\nPractical Applications for Your Business\n<ul>\n	<li>Discover how AI can be seamlessly integrated into your daily operations</li>\n	<li>Discuss real-world scenarios and every day applications</li>\n</ul>\n&nbsp\;<br />\nDon&#39\;t miss out on this exclusive opportunity to unlock the power of artificial intelligence for your business.<br />\n&nbsp\;<br />\nJoin us at the &quot\;AI Tools for Everyday Business&quot\; workshop and empower your organization with the tools needed to thrive in the AI-driven era.<br />\n&nbsp\;
LOCATION:Glenview Public Library: Community Room West 1930 Glenview Rd Glenview\, IL 60025
UID:e.434.10759
SEQUENCE:3
DTSTAMP:20260420T212914Z
URL:https://business.glenviewchamber.com/events/details/lunch-learn-harnessing-artificial-intelligence-for-business-success-10759
END:VEVENT

END:VCALENDAR
