BEGIN:VCALENDAR
VERSION:2.0
PRODID:-//ChamberMaster//Event Calendar 2.0//EN
METHOD:PUBLISH
X-PUBLISHED-TTL:P3D
REFRESH-INTERVAL:P3D
CALSCALE:GREGORIAN
BEGIN:VEVENT
DTSTART:20210427T170000Z
DTEND:20210427T181500Z
X-MICROSOFT-CDO-ALLDAYEVENT:FALSE
SUMMARY:Lunch & Learn - Retirement - Will I Outlive My Assets
DESCRIPTION:Join us for the first IN PERSON Lunch & Learn of the year as Max Tongate of Edward Jones discusses Retirement - Will I  Outlive My Assets. This interactive discuss will cover many facets of retirement to keep you informed and prepared for the transition into retirement. This event is open to members and non-members.
X-ALT-DESC;FMTTYPE=text/html:Join us for the first IN PERSON Lunch &amp\; Learn of the year as Max Tongate of Edward Jones discusses Retirement - Will I&nbsp\; Outlive My Assets. This interactive discuss will cover many facets of retirement to keep you informed and prepared for the transition into retirement.&nbsp\;This event is open to members and non-members.
LOCATION:Johnny's Kitchen & Tap 1740 Milwaukee Avenue Glenview
UID:e.434.10548
SEQUENCE:3
DTSTAMP:20260422T120810Z
URL:https://business.glenviewchamber.com/events/details/lunch-learn-retirement-will-i-outlive-my-assets-10548
END:VEVENT

END:VCALENDAR
