BEGIN:VCALENDAR
VERSION:2.0
PRODID:-//ChamberMaster//Event Calendar 2.0//EN
METHOD:PUBLISH
X-PUBLISHED-TTL:P3D
REFRESH-INTERVAL:P3D
CALSCALE:GREGORIAN
BEGIN:VEVENT
DTSTART:20190807T123000Z
DTEND:20190807T143000Z
X-MICROSOFT-CDO-ALLDAYEVENT:FALSE
SUMMARY:Mega Connect Multi-Chamber Networking Breakfast
DESCRIPTION:Multiply your networking potential! Members looking for a productive networking experience will enjoy the structured format of this program\, which gives each participant an opportunity to speak to a receptive audience about his/her company's products and services. The event will begin with informal networking over a hot buffet breakfast. Attendees will then be divided into small groups at assigned tables where everyone will give 2-minute presentations on their companies. Following will be an additional presentation to a second and third group of participants. In addition\, everyone will receive a contact list of pre-registered participants. Don't miss this unique opportunity to expand your reach and resources!
X-ALT-DESC;FMTTYPE=text/html:<span style="color: rgb(76\, 76\, 83)\; font-family: AsapRegular\, Arial\, sans-serif\; font-size: 13.3333px\;">Multiply your networking potential! Members looking for a productive networking experience will enjoy the structured format of this program\, which gives each participant an opportunity to speak to a receptive audience about his/her company&rsquo\;s products and services. The event will begin with informal networking over a hot buffet breakfast. Attendees will then be divided into small groups at assigned tables where everyone will give 2-minute presentations on their companies. Following will be an additional presentation to a second and third group of participants. In addition\, everyone will receive a contact list of pre-registered participants. Don&rsquo\;t miss this unique opportunity to expand your reach and resources!&nbsp\;&nbsp\;</span>
LOCATION:Holiday Inn North Shore 5300 West Touhy Avenue Skokie Illinois 60077
UID:e.434.10100
SEQUENCE:3
DTSTAMP:20260425T133630Z
URL:https://business.glenviewchamber.com/events/details/mega-connect-multi-chamber-networking-breakfast-10100
END:VEVENT

END:VCALENDAR
