BEGIN:VCALENDAR
VERSION:2.0
PRODID:-//ChamberMaster//Event Calendar 2.0//EN
METHOD:PUBLISH
X-PUBLISHED-TTL:P3D
REFRESH-INTERVAL:P3D
CALSCALE:GREGORIAN
BEGIN:VEVENT
DTSTART:20201013T170000Z
DTEND:20201013T183000Z
X-MICROSOFT-CDO-ALLDAYEVENT:FALSE
SUMMARY:Mega Connect Multi-Chamber Networking Lunch VIA ZOOM
DESCRIPTION:Multiply your networking potential! Members looking for a productive networking experience will enjoy the structured format of this program\, which gives each participant an opportunity to speak to a receptive audience about his/her company's products and services.  Attendees will then be divided into small groups at assigned tables where everyone will give 2-minute presentations on their companies. Following will be an additional presentation to a second and third group of participants. In addition\, everyone will receive a contact list of pre-registered participants. Don't miss this unique opportunity to expand your reach and resources! \n\n\n\nNo refunds within 72 hours of the event.
X-ALT-DESC;FMTTYPE=text/html:Multiply your networking potential! Members looking for a productive networking experience will enjoy the structured format of this program\, which gives each participant an opportunity to speak to a receptive audience about his/her company&rsquo\;s products and services.&nbsp\; Attendees will then be divided into small groups at assigned tables where everyone will give 2-minute presentations on their companies. Following will be an additional presentation to a second and third group of participants. In addition\, everyone will receive a contact list of pre-registered participants. Don&rsquo\;t miss this unique opportunity to expand your reach and resources!&nbsp\;<br />\n<br />\n<em><strong>No refunds within 72 hours of the event.&nbsp\;</strong></em>
LOCATION:
UID:e.434.10290
SEQUENCE:3
DTSTAMP:20260423T011108Z
URL:https://business.glenviewchamber.com/events/details/mega-connect-multi-chamber-networking-lunch-via-zoom-10290
END:VEVENT

END:VCALENDAR
