BEGIN:VCALENDAR
VERSION:2.0
PRODID:-//ChamberMaster//Event Calendar 2.0//EN
METHOD:PUBLISH
X-PUBLISHED-TTL:P3D
REFRESH-INTERVAL:P3D
CALSCALE:GREGORIAN
BEGIN:VEVENT
DTSTART:20210812T170000Z
DTEND:20210812T183000Z
X-MICROSOFT-CDO-ALLDAYEVENT:FALSE
SUMMARY:Mega Connect Multi-Chamber Networking Lunch VIA ZOOM
DESCRIPTION:REGISTRATION IS CLOSED\n\nMega Connect Multi Chamber Virtual Networking\n\n\n\n\n\n\n\n\nEmpower Your Business by Building Connections with 26 Chambers of Commerce!\n\n \n\nStructured Networking with business people from these terrific Chambers of Commerce:\n\n \n\nArlington Heights\, Buffalo Grove/Lincolnshire\, Deerfield/Bannockburn/Riverwoods\, Des Plaines\, Edgebrook/Sauganash\, Edison Park\, Evanston\, Gladstone Park\, Glencoe\, Glenview\, Highland Park\, Lake Forest/Lake Bluff\, LGBTCC\, Lincolnwood\, Morton Grove\, Mount Prospect\, Niles\, Northbrook\, Park Ridge\, Portage Park\, Skokie\, Uptown\, Westridge\, Greater Wheeling\, Wilmette/Kenilworth and Winnetka/Northfield.
X-ALT-DESC;FMTTYPE=text/html:<div class="row gz-event-details-header" style="overflow-wrap: break-word\; box-sizing: border-box\; display: flex\; flex-wrap: wrap\; margin-right: -15px\; margin-left: -15px\; align-items: center\; -webkit-box-align: center\; color: rgb(68\, 68\, 68)\; font-family: &quot\;Droid Sans&quot\;\, Arial\, Helvetica\, sans-serif\; font-size: 14px\;">\n<div class="col pl-0" style="overflow-wrap: break-word\; box-sizing: border-box\; position: relative\; width: 910.219px\; min-height: 1px\; padding-right: 15px\; padding-left: 0px !important\; flex-basis: 0px\; flex-grow: 1\; max-width: 100%\;">\n<div class="d-flex gz-details-head" style="overflow-wrap: break-word\; box-sizing: border-box\; display: flex !important\; align-items: center\; -webkit-box-align: center\;">\n<h1 class="gz-pagetitle font-inherit" itemprop="name" style="overflow-wrap: break-word\; vertical-align: baseline\; font-size: 24px\; margin: 0px 15px 0px 0px\; font-family: Oswald\, Arial\, Helvetica\, sans-serif\; box-sizing: border-box\;">REGISTRATION IS CLOSED<br />\nMega Connect Multi Chamber Virtual Networking</h1>\n<button aria-label="Share Button" class="gz-share-btn" data-target="#shareModal" data-toggle="modal" id="shareDrop" style="margin: 0px\; overflow: visible\; appearance: button\; cursor: pointer\; border-radius: 50%\; font-family: inherit\; font-size: 1rem\; line-height: 1\; background-color: rgb(243\, 243\, 243)\; border-width: 0px\; border-style: initial\; border-color: initial\; color: rgb(102\, 102\, 102)\; height: 45px\; width: 45px\;" type="button"></button></div>\n</div>\n</div>\n\n<div class="row gz-details-links" style="overflow-wrap: break-word\; box-sizing: border-box\; display: flex\; flex-flow: row wrap\; margin-right: -15px\; margin-left: -15px\; outline: 0px\; -webkit-box-orient: horizontal\; -webkit-box-direction: normal\; color: rgb(68\, 68\, 68)\; font-family: &quot\;Droid Sans&quot\;\, Arial\, Helvetica\, sans-serif\; font-size: 14px\;">\n<div class="col-sm-7 col-md-8 order-sm-first" style="overflow-wrap: break-word\; box-sizing: border-box\; position: relative\; width: 616.797px\; min-height: 1px\; padding-right: 15px\; padding-left: 15px\; flex: 0 0 66.6667%\; max-width: 66.6667%\; order: -1\; outline: 0px\;">\n<div class="row gz-event-description" itemprop="about" style="overflow-wrap: break-word\; box-sizing: border-box\; display: flex\; flex-wrap: wrap\; margin-right: -15px\; margin-left: -15px\; outline: 0px\;">\n<div class="col" style="overflow-wrap: break-word\; box-sizing: border-box\; position: relative\; width: 616.797px\; min-height: 1px\; padding-right: 15px\; padding-left: 15px\; flex-basis: 0px\; flex-grow: 1\; max-width: 100%\; outline: 0px\;">\n<p style="overflow-wrap: break-word\; margin: 0px 0px 1rem\; box-sizing: border-box\; outline: 0px\;"><span style="overflow-wrap: break-word\; box-sizing: border-box\; outline: 0px\; font-weight: bold\;"><span style="overflow-wrap: break-word\; box-sizing: border-box\; outline: 0px\; color: rgb(172\, 59\, 32)\;"><span style="overflow-wrap: break-word\; box-sizing: border-box\; outline: 0px\; font-family: arial\;"><span style="overflow-wrap: break-word\; box-sizing: border-box\; outline: 0px\; font-size: 22pt\;">Empower Your Business by Building Connections with 26 Chambers of Commerce!</span></span></span></span><br style="box-sizing: border-box\;" />\n&nbsp\;<br style="box-sizing: border-box\;" />\n<span style="overflow-wrap: break-word\; box-sizing: border-box\; font-size: 20px\;"><span style="overflow-wrap: break-word\; box-sizing: border-box\; font-style: italic\; text-decoration-line: underline\; font-weight: bold\;"><span style="overflow-wrap: break-word\; box-sizing: border-box\; color: rgb(172\, 59\, 32)\;"><span style="overflow-wrap: break-word\; box-sizing: border-box\; font-family: georgia\;">Structured Networking</span></span></span>&nbsp\;</span><span style="overflow-wrap: break-word\; box-sizing: border-box\; font-weight: bold\;"><span style="overflow-wrap: break-word\; box-sizing: border-box\; color: rgb(9\, 87\, 89)\;"><span style="overflow-wrap: break-word\; box-sizing: border-box\; font-family: georgia\;"><span style="overflow-wrap: break-word\; box-sizing: border-box\; font-size: 20pt\;"><span style="overflow-wrap: break-word\; box-sizing: border-box\; font-size: 20px\;">with business people from these terrific Chambers of Commerce:</span></span></span></span></span><br style="box-sizing: border-box\;" />\n&nbsp\;<br style="box-sizing: border-box\;" />\n<span style="overflow-wrap: break-word\; box-sizing: border-box\; font-size: 18px\;"><span style="overflow-wrap: break-word\; box-sizing: border-box\; color: rgb(34\, 0\, 0)\;"><span style="overflow-wrap: break-word\; box-sizing: border-box\; font-family: georgia\;">Arlington Heights\, Buffalo Grove/Lincolnshire\, Deerfield/Bannockburn/Riverwoods\, Des Plaines\, Edgebrook/Sauganash\, Edison Park\, Evanston\, Gladstone Park\, Glencoe\, Glenview\, Highland Park\, Lake Forest/Lake Bluff\, LGBTCC\, Lincolnwood\, Morton Grove\, Mount Prospect\, Niles\, Northbrook\, Park Ridge\, Portage Park\,&nbsp\;</span></span><span style="overflow-wrap: break-word\; box-sizing: border-box\; font-weight: bold\;"><span style="overflow-wrap: break-word\; box-sizing: border-box\; color: rgb(192\, 0\, 0)\;"><span style="overflow-wrap: break-word\; box-sizing: border-box\; font-family: georgia\;">Skokie</span></span></span><span style="overflow-wrap: break-word\; box-sizing: border-box\; color: rgb(34\, 0\, 0)\;"><span style="overflow-wrap: break-word\; box-sizing: border-box\; font-family: georgia\;">\, Uptown\, Westridge\, Greater Wheeling\, Wilmette/Kenilworth and Winnetka/Northfield.</span></span></span></p>\n</div>\n</div>\n</div>\n</div>\n
LOCATION:
UID:e.434.10567
SEQUENCE:3
DTSTAMP:20260422T082526Z
URL:https://business.glenviewchamber.com/events/details/mega-connect-multi-chamber-networking-lunch-via-zoom-10567
END:VEVENT

END:VCALENDAR
