BEGIN:VCALENDAR
VERSION:2.0
PRODID:-//ChamberMaster//Event Calendar 2.0//EN
METHOD:PUBLISH
X-PUBLISHED-TTL:P3D
REFRESH-INTERVAL:P3D
CALSCALE:GREGORIAN
BEGIN:VEVENT
DTSTART:20211014T170000Z
DTEND:20211014T183000Z
X-MICROSOFT-CDO-ALLDAYEVENT:FALSE
SUMMARY:Mega Connect Multi-Chamber Networking Lunch VIA ZOOM
DESCRIPTION:Mega Connect Multi-Chamber Networking Lunch VIA ZOOM\n\n \n\nThursday\, October 14\n\n12 pm - 1:30 pm\n\n \n\n \n\nEmpower Your Business by Building Connections with 26 Chambers of Commerce!\n\n \n\nStructured Networking with business people from these terrific Chambers of Commerce:\n\n \n\nArlington Heights\, Buffalo Grove/Lincolnshire\, Deerfield/Bannockburn/Riverwoods\, Des Plaines\, Edgebrook/Sauganash\, Edison Park\, Evanston\, Gladstone Park\, Glencoe\, Glenview\, Highland Park\, Lake Forest/Lake Bluff\, LGBTCC\, Lincolnwood\, Morton Grove\, Mount Prospect\, Niles\, Northbrook\, Park Ridge\, Portage Park\, Skokie\, Uptown\, Westridge\, Greater Wheeling\, Wilmette/Kenilworth and Winnetka/Northfield.
X-ALT-DESC;FMTTYPE=text/html:<div style="color: rgb(96\, 109\, 120)\; font-family: Helvetica\, Arial\, sans-serif\; font-size: 14px\; white-space: pre-wrap\;"><span style="font-size: 16px\; color: rgb(31\, 73\, 125)\; font-weight: bold\; font-family: Calibri\, Helvetica\, Arial\, sans-serif\;">Mega Connect Multi-Chamber Networking Lunch VIA ZOOM</span></div>\n\n<div style="color: rgb(96\, 109\, 120)\; font-family: Helvetica\, Arial\, sans-serif\; font-size: 14px\; white-space: pre-wrap\;">&nbsp\;</div>\n\n<div style="color: rgb(96\, 109\, 120)\; font-family: Helvetica\, Arial\, sans-serif\; font-size: 14px\; white-space: pre-wrap\;"><span style="font-size: 16px\; color: rgb(31\, 73\, 125)\; font-weight: bold\; font-family: Calibri\, Helvetica\, Arial\, sans-serif\;">Thursday\, October 14</span></div>\n\n<div style="color: rgb(96\, 109\, 120)\; font-family: Helvetica\, Arial\, sans-serif\; font-size: 14px\; white-space: pre-wrap\;"><span style="font-size: 16px\; color: rgb(31\, 73\, 125)\; font-weight: bold\; font-family: Calibri\, Helvetica\, Arial\, sans-serif\;">12 pm - 1:30 pm</span></div>\n\n<div style="color: rgb(96\, 109\, 120)\; font-family: Helvetica\, Arial\, sans-serif\; font-size: 14px\; white-space: pre-wrap\;">&nbsp\;</div>\n\n<div style="color: rgb(96\, 109\, 120)\; font-family: Helvetica\, Arial\, sans-serif\; font-size: 14px\; white-space: pre-wrap\;">&nbsp\;</div>\n\n<div style="color: rgb(96\, 109\, 120)\; font-family: Helvetica\, Arial\, sans-serif\; font-size: 14px\; white-space: pre-wrap\;"><span style="font-size: 16px\; color: rgb(31\, 73\, 125)\; font-family: Calibri\, Helvetica\, Arial\, sans-serif\;">Empower Your Business by Building Connections with 26 Chambers of Commerce!</span></div>\n\n<div style="color: rgb(96\, 109\, 120)\; font-family: Helvetica\, Arial\, sans-serif\; font-size: 14px\; white-space: pre-wrap\;"><span style="font-size: 16px\; color: rgb(31\, 73\, 125)\; font-family: Calibri\, Helvetica\, Arial\, sans-serif\;">&nbsp\;</span></div>\n\n<div style="color: rgb(96\, 109\, 120)\; font-family: Helvetica\, Arial\, sans-serif\; font-size: 14px\; white-space: pre-wrap\;"><span style="font-size: 16px\; color: rgb(31\, 73\, 125)\; text-decoration-line: underline\; font-family: Calibri\, Helvetica\, Arial\, sans-serif\; font-style: italic\;">Structured Networking</span><span style="font-size: 16px\; color: rgb(31\, 73\, 125)\; font-family: Calibri\, Helvetica\, Arial\, sans-serif\;">&nbsp\;with business people from these terrific Chambers of Commerce:</span></div>\n\n<div style="color: rgb(96\, 109\, 120)\; font-family: Helvetica\, Arial\, sans-serif\; font-size: 14px\; white-space: pre-wrap\;"><span style="font-size: 16px\; color: rgb(31\, 73\, 125)\; font-family: Calibri\, Helvetica\, Arial\, sans-serif\;">&nbsp\;</span></div>\n\n<div style="color: rgb(96\, 109\, 120)\; font-family: Helvetica\, Arial\, sans-serif\; font-size: 14px\; white-space: pre-wrap\;"><span style="font-size: 16px\; color: rgb(31\, 73\, 125)\; font-family: Calibri\, Helvetica\, Arial\, sans-serif\;">Arlington Heights\, Buffalo Grove/Lincolnshire\, Deerfield/Bannockburn/Riverwoods\, Des Plaines\, Edgebrook/Sauganash\, Edison Park\, Evanston\, Gladstone Park\, Glencoe\, Glenview\, Highland Park\, Lake Forest/Lake Bluff\, LGBTCC\, Lincolnwood\, Morton Grove\, Mount Prospect\, Niles\, Northbrook\, Park Ridge\, Portage Park\,&nbsp\;Skokie\, Uptown\, Westridge\, Greater Wheeling\, Wilmette/Kenilworth and Winnetka/Northfield.</span></div>\n
LOCATION:
UID:e.434.10570
SEQUENCE:3
DTSTAMP:20260422T034043Z
URL:https://business.glenviewchamber.com/events/details/mega-connect-multi-chamber-networking-lunch-via-zoom-10570
END:VEVENT

END:VCALENDAR
