BEGIN:VCALENDAR
VERSION:2.0
PRODID:-//ChamberMaster//Event Calendar 2.0//EN
METHOD:PUBLISH
X-PUBLISHED-TTL:P3D
REFRESH-INTERVAL:P3D
CALSCALE:GREGORIAN
BEGIN:VEVENT
DTSTART:20240527T150000Z
DTEND:20240527T170000Z
X-MICROSOFT-CDO-ALLDAYEVENT:FALSE
SUMMARY:Memorial Day Parade and Ceremony
DESCRIPTION:Honor the memory of all the American men and women who lost their lives in service to their country at the 2024 Memorial Day Parade and Ceremony at 10am on Monday\, May 27. \n\n\n\nThe parade begins at Depot and Grove streets\, heading east to Pine Street\, then south to Glenview Road and east to the Veterans Memorial at River Drive\, where the ceremony will take place with remarks and singing of the National Anthem and God Bless America. \n\n\n\nVillage Hall will be closed Monday\, May 27\, in observance of the holiday.
X-ALT-DESC;FMTTYPE=text/html:Honor the memory of all the American men and women who lost their lives in service to their country at the 2024 Memorial Day Parade and Ceremony at 10am on Monday\, May 27.&nbsp\;<br />\n<br />\nThe parade begins at Depot and Grove streets\, heading east to Pine Street\, then south to Glenview Road and east to the Veterans Memorial at River Drive\, where the ceremony will take place with remarks and singing of the National Anthem and God Bless America.&nbsp\;<br />\n<br />\nVillage Hall will be closed Monday\, May 27\, in observance of the holiday.&nbsp\;
LOCATION:The parade begins at Depot and Grove streets\, heading east to Pine Street\, then south to Glenview Road and east to the Veterans Memorial at River Drive
UID:e.434.10972
SEQUENCE:3
DTSTAMP:20260420T100822Z
URL:https://business.glenviewchamber.com/events/details/memorial-day-parade-and-ceremony-10972
END:VEVENT

END:VCALENDAR
