BEGIN:VCALENDAR
VERSION:2.0
PRODID:-//ChamberMaster//Event Calendar 2.0//EN
METHOD:PUBLISH
X-PUBLISHED-TTL:P3D
REFRESH-INTERVAL:P3D
CALSCALE:GREGORIAN
BEGIN:VEVENT
DTSTART:20190619T123000Z
DTEND:20190619T140000Z
X-MICROSOFT-CDO-ALLDAYEVENT:FALSE
SUMMARY:Multi- Chamber Mid-Year Economic Breakfast Summit
DESCRIPTION:Illinois State Treasurer\, Michael W. Freichs to be the Keynote Speaker \n\nLatest Update from the Treasurer's Office  "State of the State" \n\n-What happened during the latest state legislative session and how will it affect your business? \n\n-What are the business trends in Illinois and how do they differ from our neighbors? \n\n-How is federal law affecting Illinois and what do businesses need to do? \n\nAnd MORE!
X-ALT-DESC;FMTTYPE=text/html:<strong><em><span style="color:#C00000\;"><span style="font-family:arial\,sans-serif\;"><span style="font-size:12.0pt\;">Illinois State Treasurer\, Michael W. Freichs to be the Keynote Speaker&nbsp\;</span></span></span></em></strong><br />\nLatest Update from the Treasurer&rsquo\;s Office&nbsp\; &ldquo\;State of the State&rdquo\;&nbsp\;<br />\n-What happened during the latest state legislative session and how will it affect your business?&nbsp\;<br />\n-What are the business trends in Illinois and how do they differ from our neighbors?&nbsp\;<br />\n-How is federal law affecting Illinois and what do businesses need to do?&nbsp\;<br />\nAnd MORE!&nbsp\;
LOCATION:Cafe la Cave\, 2777 Mannheim Road\, Des Plaines(across the street from Allstate Arena)
UID:e.434.10102
SEQUENCE:3
DTSTAMP:20260425T162032Z
URL:https://business.glenviewchamber.com/events/details/multi-chamber-mid-year-economic-breakfast-summit-10102
END:VEVENT

END:VCALENDAR
