BEGIN:VCALENDAR
VERSION:2.0
PRODID:-//ChamberMaster//Event Calendar 2.0//EN
METHOD:PUBLISH
X-PUBLISHED-TTL:P3D
REFRESH-INTERVAL:P3D
CALSCALE:GREGORIAN
BEGIN:VEVENT
DTSTART:20190523T164500Z
DTEND:20190523T181500Z
X-MICROSOFT-CDO-ALLDAYEVENT:FALSE
SUMMARY:Multi Chamber Women in Business Luncheon
DESCRIPTION:Multi Chamber Women in Business Luncheon\n\n \n\nSpeakers:\n\nJean M. Franczyk\, Chicago Botanic Garden\n\nSusan Abrams\, Illinois Holocaust Museum\n\n\n\nRegistration closes on 5/17\, walk-ins will not be accomodated.
X-ALT-DESC;FMTTYPE=text/html:<span style="font-family:tahoma\,sans-serif\;"><span style="font-size:14.0pt\;">Multi Chamber Women in Business Luncheon</span></span><br />\n&nbsp\;<br />\n<span style="font-family:tahoma\,sans-serif\;"><span style="font-size:14.0pt\;">Speakers:</span></span><br />\n<span style="font-family:tahoma\,sans-serif\;"><span style="font-size:14.0pt\;">Jean M. Franczyk\, Chicago Botanic Garden</span></span><br />\n<span style="font-family:tahoma\,sans-serif\;"><span style="font-size:14.0pt\;">Susan Abrams\, Illinois Holocaust Museum<br />\n<br />\n<em><u><strong>Registration closes on 5/17\, walk-ins will not be accomodated.</strong></u></em></span></span><br />\n&nbsp\;
LOCATION:Thursday\, May 23rd 11:45 am 1:15 pm Complimentary parking is available to guests.
UID:e.434.10138
SEQUENCE:3
DTSTAMP:20260426T001403Z
URL:https://business.glenviewchamber.com/events/details/multi-chamber-women-in-business-luncheon-10138
END:VEVENT

END:VCALENDAR
