BEGIN:VCALENDAR
VERSION:2.0
PRODID:-//ChamberMaster//Event Calendar 2.0//EN
METHOD:PUBLISH
X-PUBLISHED-TTL:P3D
REFRESH-INTERVAL:P3D
CALSCALE:GREGORIAN
BEGIN:VEVENT
DTSTART:20231216T020000Z
DTEND:20231216T050000Z
X-MICROSOFT-CDO-ALLDAYEVENT:FALSE
SUMMARY:Navigator Nights - Lock In
DESCRIPTION:Navigators will meet at the NSYMCA at 8 PM. Pizza dinner will be provided. Additionally\, all are invited to bring a pre-wrapped $5 gift (limit) to participate in our funny gift exchange. The voted funniest gift (must be appropriate) wins a gift card! After dinner\, the Navigators will participate in a full gym Dodgeball tournament. Once the NSYMCA closes\, we will organize a FULL BUILDING tag and capture the flag (and a movie/video game area for those ELIMINATED or in need of chill time)! Pick up will be at the NSYMCA at 11 PM. Staff leading this event are NSYMCA full-time staff and camp leaders\, Alex Brodell and Joe Mosser. Open to all! Bring a Friend! RSVP today\, at no charge\, to reserve a spot! Spaces are limited and first come\, first served. Registration deadline for RSVP'd guests is 12/13.
X-ALT-DESC;FMTTYPE=text/html:Navigators will meet at the NSYMCA at 8 PM. Pizza dinner will be provided. Additionally\, all are invited to bring a pre-wrapped $5 gift (limit) to participate in our funny gift exchange. The voted funniest gift (must be appropriate) wins a gift card! After dinner\, the Navigators will participate in a full gym Dodgeball tournament. Once the NSYMCA closes\, we will organize a FULL BUILDING tag and capture the flag (and a movie/video game area for those ELIMINATED&hellip\;or in need of chill time)! Pick up will be at the NSYMCA at 11 PM. Staff leading this event are NSYMCA full-time staff and camp leaders\, Alex Brodell and Joe Mosser. Open to all! Bring a Friend! RSVP today\, at no charge\, to reserve a spot! Spaces are limited and first come\, first served. Registration deadline for RSVP&rsquo\;d guests is 12/13.
LOCATION:North Suburban YMCA\, 2705 Techny Rd. Northbrook. IL 60062
UID:e.434.10872
SEQUENCE:3
DTSTAMP:20260420T203217Z
URL:https://business.glenviewchamber.com/events/details/navigator-nights-lock-in-10872
END:VEVENT

END:VCALENDAR
