BEGIN:VCALENDAR
VERSION:2.0
PRODID:-//ChamberMaster//Event Calendar 2.0//EN
METHOD:PUBLISH
X-PUBLISHED-TTL:P3D
REFRESH-INTERVAL:P3D
CALSCALE:GREGORIAN
BEGIN:VEVENT
DTSTART:20240424T130000Z
DTEND:20240424T143000Z
X-MICROSOFT-CDO-ALLDAYEVENT:FALSE
SUMMARY:Networking Breakfast at Oil Lamp Theater
DESCRIPTION:Join Chicago North Shore Convention and Visitors Bureaus members and Glenview Chamber members for breakfast and networking at Oil Lamp Theater.
X-ALT-DESC;FMTTYPE=text/html:Join Chicago North Shore Convention and Visitors Bureaus members and Glenview Chamber members for breakfast and networking at Oil Lamp Theater.&nbsp\;&nbsp\;
LOCATION:Oil Lamp Theater 1723 Glenview Road Glenview\, IL 60025 Parking in the lot next to the theater or street parking available
UID:e.434.10947
SEQUENCE:3
DTSTAMP:20260420T112628Z
URL:https://business.glenviewchamber.com/events/details/networking-breakfast-at-oil-lamp-theater-10947
END:VEVENT

END:VCALENDAR
