BEGIN:VCALENDAR
VERSION:2.0
PRODID:-//ChamberMaster//Event Calendar 2.0//EN
METHOD:PUBLISH
X-PUBLISHED-TTL:P3D
REFRESH-INTERVAL:P3D
CALSCALE:GREGORIAN
BEGIN:VEVENT
DTSTART:20240411T150000Z
DTEND:20240411T170000Z
X-MICROSOFT-CDO-ALLDAYEVENT:FALSE
SUMMARY:Neurodiversity in the Workplace
DESCRIPTION:Agenda:\n\nContinental Breakfast: 10:00-10:15\n\nPanel: 10:15-11:00\n\nQ&A: 11:00-11:30\n\nNetworking: 11:30-12:00\n\nOptional Campus Tour: 12:00-12:20\n\n\n\nPlease RSVP by March 28\, 2024 to lkintner@oakton.edu
X-ALT-DESC;FMTTYPE=text/html:Agenda:<br />\nContinental Breakfast: 10:00-10:15<br />\nPanel: 10:15-11:00<br />\nQ&amp\;A: 11:00-11:30<br />\nNetworking: 11:30-12:00<br />\nOptional Campus Tour: 12:00-12:20<br />\n<br />\nPlease RSVP by March 28\, 2024 to&nbsp\;lkintner@oakton.edu
LOCATION:Oakton College 1600 Golf Road Des Plaines\, IL 60016 Ten Hoeve Center: 1610 (Use Parking Lot C)
UID:e.434.10944
SEQUENCE:3
DTSTAMP:20260420T131928Z
URL:https://business.glenviewchamber.com/events/details/neurodiversity-in-the-workplace-10944
END:VEVENT

END:VCALENDAR
