BEGIN:VCALENDAR
VERSION:2.0
PRODID:-//ChamberMaster//Event Calendar 2.0//EN
METHOD:PUBLISH
X-PUBLISHED-TTL:P3D
REFRESH-INTERVAL:P3D
CALSCALE:GREGORIAN
BEGIN:VEVENT
DTSTART:20260502T191500Z
DTEND:20260502T203000Z
X-MICROSOFT-CDO-ALLDAYEVENT:FALSE
SUMMARY:Neurographic Art
DESCRIPTION:Neurographic Art uses simple lines and colors to reduce stress\, calm the mind\, and inspire creativity.
X-ALT-DESC;FMTTYPE=text/html:Neurographic Art uses simple lines and colors to reduce stress\, calm the mind\, and inspire creativity.
LOCATION:2705 Techny Rd. Northbrook. IL 60062
UID:e.434.11792
SEQUENCE:3
DTSTAMP:20260424T083425Z
URL:https://business.glenviewchamber.com/events/details/neurographic-art-05-02-2026-11792
END:VEVENT

END:VCALENDAR
