BEGIN:VCALENDAR
VERSION:2.0
PRODID:-//ChamberMaster//Event Calendar 2.0//EN
METHOD:PUBLISH
X-PUBLISHED-TTL:P3D
REFRESH-INTERVAL:P3D
CALSCALE:GREGORIAN
BEGIN:VEVENT
DTSTART:20220413T153000Z
DTEND:20220413T170000Z
X-MICROSOFT-CDO-ALLDAYEVENT:FALSE
SUMMARY:NEW ILLINOIS RULE: Employers Liable for Wage/Hour Violations of Another Employer?!
DESCRIPTION:With a recent regulation issued by the Illinois Department of Labor making a legal finding of joint employment far easier\, employers (particularly staffing agencies and their user-companies\, franchisors and franchisees\, and construction contractors of various levels) need to understand why trying to avoid a joint employment relationship is critical in order to reduce being "on the hook" for the unlawful actions of a separate employer. In this timely 90-minute webinar\, Labor & Employment Attorney Jeffrey Risch will be presenting the latest legal landscape\, as well as what employers should expect moving forward on this very important subject. Particular attention will be devoted to helpful insights and tips on how employers that do business with one another can actually reduce potential problems and operate with a more clear understanding of what they should and should not do when establishing and maintaining their mutually beneficial business relationship. Key contractual terms will also be shared.
X-ALT-DESC;FMTTYPE=text/html:With a recent regulation issued by the Illinois Department of Labor making a legal finding of joint employment far easier\, employers (particularly staffing agencies and their user-companies\, franchisors and franchisees\, and construction contractors of various levels) need to understand why trying to avoid a joint employment relationship is critical in order to reduce being &ldquo\;on the hook&rdquo\; for the unlawful actions of a separate employer. In this timely 90-minute webinar\, Labor &amp\; Employment Attorney Jeffrey Risch will be presenting the latest legal landscape\, as well as what employers should expect moving forward on this very important subject. Particular attention will be devoted to helpful insights and tips on how employers that do business with one another can actually reduce potential problems and operate with a more clear understanding of what they should and should not do when establishing and maintaining their mutually beneficial business relationship. Key contractual terms will also be shared.
LOCATION:Webinar
UID:e.434.10594
SEQUENCE:3
DTSTAMP:20260421T192604Z
URL:https://business.glenviewchamber.com/events/details/new-illinois-rule-employers-liable-for-wage-hour-violations-of-another-employer-10594
END:VEVENT

END:VCALENDAR
