BEGIN:VCALENDAR
VERSION:2.0
PRODID:-//ChamberMaster//Event Calendar 2.0//EN
METHOD:PUBLISH
X-PUBLISHED-TTL:P3D
REFRESH-INTERVAL:P3D
CALSCALE:GREGORIAN
BEGIN:VEVENT
DTSTART:20210128T180000Z
DTEND:20210128T190000Z
X-MICROSOFT-CDO-ALLDAYEVENT:FALSE
SUMMARY:Next Level Strategic Connections
DESCRIPTION:Next Level Strategic Connections is an innovative multi-chamber\, virtual networking experience. Think of it as a "dating app" combined with LinkedIn. \n\n \n\nThis virtual networking program gives participants the ability to connect 1:1 with strategic connections based on mutual interest. The advanced matchmaking algorithm takes the guess work out of who participants should be connecting with\, and facilitates and automatically schedules these 1:1 meetings for them during the dedicated networking session. Below are some details: \n\n	Face-to-face\, live\, interactive networking with five\, ten-minute sessions in a private chat room. \n	More bang for the buck\, because participants choose whom they meet rather than being matched with random people. \n	Participants won't be stuck connecting with someone in their own industry. \n	Participants create unique profile (one time) that remains on the site for future networking and registration. \n	Participants rate the quality of each connection after each session so the algorithm can preserve it for future matching. \n\nExtensive post-event targeted connecting  \n\n\n\nAfter participants pay\,  a link will be emailed to set up their profiles similar to registering for a Zoom event\, but more detailed.
X-ALT-DESC;FMTTYPE=text/html:<span style="font-size:12px\;"><span style="font-family:tahoma\;"><span style="border:none windowtext 1.0pt\;padding:0in\;"><span style="color:black\;">Next Level Strategic Connections is an innovative multi-chamber\, virtual networking experience. Think of it as a &ldquo\;dating app&rdquo\; combined with LinkedIn.</span></span>&nbsp\;<br />\n&nbsp\;<br />\n<span style="border:none windowtext 1.0pt\;padding:0in\;"><span style="color:black\;">This virtual networking program gives participants the ability to&nbsp\;<strong>connect 1:1 with strategic connections based on mutual interest</strong>. The advanced matchmaking algorithm takes the guess work out of who participants should be connecting with\, and facilitates and automatically schedules these 1:1 meetings for them during the dedicated networking session. Below are some details:</span></span>&nbsp\;</span></span>\n<ul>\n	<li style="color:black\;"><span style="font-size:12px\;"><span style="font-family:tahoma\;"><span style="border:none windowtext 1.0pt\;padding:0in\;">Face-to-face\, live\, interactive networking with&nbsp\;<strong>five\, ten-minute sessions in a private chat room</strong>.</span>&nbsp\;</span></span></li>\n	<li style="color:black\;"><span style="font-size:12px\;"><span style="font-family:tahoma\;"><span style="border:none windowtext 1.0pt\;padding:0in\;">More bang for the buck\, because&nbsp\;<strong>participants choose whom they meet&nbsp\;</strong>rather than being matched with random people.</span>&nbsp\;</span></span></li>\n	<li style="color:black\;"><span style="font-size:12px\;"><span style="font-family:tahoma\;"><span style="border:none windowtext 1.0pt\;padding:0in\;">Participants&nbsp\;<strong>won&#39\;t be stuck connecting with someone in their own industry</strong>.</span>&nbsp\;</span></span></li>\n	<li style="color:black\;"><span style="font-size:12px\;"><span style="font-family:tahoma\;"><span style="border:none windowtext 1.0pt\;padding:0in\;">Participants <strong>create unique profile</strong>&nbsp\;(one time) that remains on the site for future networking and registration.</span>&nbsp\;</span></span></li>\n	<li style="color:black\;"><span style="font-size:12px\;"><span style="font-family:tahoma\;"><span style="border:none windowtext 1.0pt\;padding:0in\;">Participants&nbsp\;<strong>rate the quality of each connection</strong>&nbsp\;after each session so the algorithm can preserve it for future matching.</span>&nbsp\;</span></span></li>\n</ul>\n<span style="font-size:12px\;"><span style="font-family:tahoma\;"><span style="border:none windowtext 1.0pt\;padding:0in\;"><span style="color:black\;">Extensive&nbsp\;<strong>post-event targeted connecting</strong>&nbsp\;</span></span>&nbsp\;<br />\n<br />\n<span style="color:black\;">After <strong>participants pay\,&nbsp\; a link</strong>&nbsp\;will be emailed to set up their profiles similar to registering for a Zoom event\, but more detailed.&nbsp\;</span></span></span><br />\n<br />\n&nbsp\;
LOCATION:
UID:e.434.10523
SEQUENCE:3
DTSTAMP:20260422T210755Z
URL:https://business.glenviewchamber.com/events/details/next-level-strategic-connections-10523
END:VEVENT

END:VCALENDAR
