BEGIN:VCALENDAR
VERSION:2.0
PRODID:-//ChamberMaster//Event Calendar 2.0//EN
METHOD:PUBLISH
X-PUBLISHED-TTL:P3D
REFRESH-INTERVAL:P3D
CALSCALE:GREGORIAN
BEGIN:VEVENT
DTSTART:20240303T210000Z
DTEND:20240303T224500Z
X-MICROSOFT-CDO-ALLDAYEVENT:FALSE
SUMMARY:North Suburban YMCA Annual Art Show 2024
DESCRIPTION:Join us in celebrating the creative work of our NSYMCA Winter Art Students at this year's Annual Art Show. The show is held at the Northbrook Public Library for all month of March. The reception will be held at the Children Services at the Northbrook Public Library on March 3rd.
X-ALT-DESC;FMTTYPE=text/html:Join us in celebrating the creative work of our NSYMCA Winter Art Students at this year&#39\;s Annual Art Show. The show is held at the Northbrook Public Library for all month of March. The reception will be held at the Children Services at the Northbrook Public Library on March 3rd.
LOCATION:Northbrook Public Library 1201 Cedar Ln\, Northbrook\, IL 60062
UID:e.434.10895
SEQUENCE:3
DTSTAMP:20260420T115758Z
URL:https://business.glenviewchamber.com/events/details/north-suburban-ymca-annual-art-show-2024-10895
END:VEVENT

END:VCALENDAR
