BEGIN:VCALENDAR
VERSION:2.0
PRODID:-//ChamberMaster//Event Calendar 2.0//EN
METHOD:PUBLISH
X-PUBLISHED-TTL:P3D
REFRESH-INTERVAL:P3D
CALSCALE:GREGORIAN
BEGIN:VEVENT
DTSTART:20240306T151500Z
DTEND:20240306T161500Z
X-MICROSOFT-CDO-ALLDAYEVENT:FALSE
SUMMARY:North Suburban YMCA Education Series (Y.E.S.): Estate Planning 101
DESCRIPTION:Elder Law Attorney\, Matt Margolis\, will teach you about the importance of estate planning\, no matter your level of wealth. This discussion will cover what is important to include in your estate planning and how to use trusts and other tools to protect your loved ones.
X-ALT-DESC;FMTTYPE=text/html:Elder Law Attorney\, Matt Margolis\, will teach you about the importance of estate planning\, no matter your level of wealth. This discussion will cover what is important to include in your estate planning and how to use trusts and other tools to protect your loved ones.
LOCATION:Virtual
UID:e.434.10897
SEQUENCE:3
DTSTAMP:20260420T115804Z
URL:https://business.glenviewchamber.com/events/details/north-suburban-ymca-education-series-y-e-s-estate-planning-101-10897
END:VEVENT

END:VCALENDAR
