BEGIN:VCALENDAR
VERSION:2.0
PRODID:-//ChamberMaster//Event Calendar 2.0//EN
METHOD:PUBLISH
X-PUBLISHED-TTL:P3D
REFRESH-INTERVAL:P3D
CALSCALE:GREGORIAN
BEGIN:VEVENT
DTSTART;VALUE=DATE:20210118
DTEND;VALUE=DATE:20210119
TRANSP:TRANSPARENT
X-MICROSOFT-CDO-ALLDAYEVENT:TRUE
SUMMARY:OFFICE CLOSED
DESCRIPTION:OFFICE CLOSED
X-ALT-DESC;FMTTYPE=text/html:<font face="calibri\, sans-serif"><span style="font-size: 14.6667px\;">OFFICE CLOSED</span></font>
LOCATION:
UID:e.434.10518
SEQUENCE:3
DTSTAMP:20260422T171439Z
URL:https://business.glenviewchamber.com/events/details/office-closed-10518
END:VEVENT

END:VCALENDAR
