BEGIN:VCALENDAR
VERSION:2.0
PRODID:-//ChamberMaster//Event Calendar 2.0//EN
METHOD:PUBLISH
X-PUBLISHED-TTL:P3D
REFRESH-INTERVAL:P3D
CALSCALE:GREGORIAN
BEGIN:VEVENT
DTSTART:20240513T233000Z
DTEND:20240514T003000Z
X-MICROSOFT-CDO-ALLDAYEVENT:FALSE
SUMMARY:One Fair Wage: Listening Session
DESCRIPTION:You are invited to a listening session and dialogue about the Cook County One Fair Wage resolution. \n\n\n\nPlease bring your questions and ideas for members of the One Fair Wage caolition.\n\n\n\nThe full text of the resolution before the Cook County Board can be found here: tinyurl.com/OneFairWageCookCounty\n\n\n\nRegister at tinyurl.com/OneFairWageListeningSession
X-ALT-DESC;FMTTYPE=text/html:You are invited to a listening session and dialogue about the Cook County One Fair Wage resolution.&nbsp\;<br />\n<br />\nPlease bring your questions and ideas for members of the One Fair Wage caolition.<br />\n<br />\nThe full text of the resolution before the Cook County Board can be found here: tinyurl.com/OneFairWageCookCounty<br />\n<br />\nRegister at tinyurl.com/OneFairWageListeningSession
LOCATION:Zoom tinyurl.com/OneFairWageListeningSession
UID:e.434.10971
SEQUENCE:3
DTSTAMP:20260420T130057Z
URL:https://business.glenviewchamber.com/events/details/one-fair-wage-listening-session-10971
END:VEVENT

END:VCALENDAR
