BEGIN:VCALENDAR
VERSION:2.0
PRODID:-//ChamberMaster//Event Calendar 2.0//EN
METHOD:PUBLISH
X-PUBLISHED-TTL:P3D
REFRESH-INTERVAL:P3D
CALSCALE:GREGORIAN
BEGIN:VEVENT
DTSTART:20240608T163000Z
DTEND:20240608T190000Z
X-MICROSOFT-CDO-ALLDAYEVENT:FALSE
SUMMARY:Parade of Homes Open House
DESCRIPTION:Join us on Saturday\, June 8 from 11:30am-2:00pm for this special event where you can meet the residents of Chestnut Square\, tour their beautiful apartments\, and ask questions about our vibrant senior living community. The event includes light refreshments\, raffles\, information on limited-time incentives on select 2-BR/2-BA floor plans\, and complimentary valet parking. To learn more\, please call 847-998-1118.
X-ALT-DESC;FMTTYPE=text/html:<span style="color: rgb(76\, 76\, 83)\; font-family: AsapRegular\, Arial\, sans-serif\; font-size: 14px\;">Join us on Saturday\, June 8 from 11:30am-2:00pm for this special event where you can meet the residents of Chestnut Square\, tour their beautiful apartments\, and ask questions about our vibrant senior living community. The event includes light refreshments\, raffles\, information on limited-time incentives on select 2-BR/2-BA floor plans\, and complimentary valet parking. To learn more\, please call 847-998-1118.</span>
LOCATION:2601 Chestnut Ave Glenview\, IL 60026
UID:e.434.10979
SEQUENCE:3
DTSTAMP:20260422T113211Z
URL:https://business.glenviewchamber.com/events/details/parade-of-homes-open-house-10979
END:VEVENT

END:VCALENDAR
