BEGIN:VCALENDAR
VERSION:2.0
PRODID:-//ChamberMaster//Event Calendar 2.0//EN
METHOD:PUBLISH
X-PUBLISHED-TTL:P3D
REFRESH-INTERVAL:P3D
CALSCALE:GREGORIAN
BEGIN:VEVENT
DTSTART:20240410T000000Z
DTEND:20240410T013000Z
X-MICROSOFT-CDO-ALLDAYEVENT:FALSE
SUMMARY:Parenting Online: Social Media Safety
DESCRIPTION:In this workshop\, parents will learn essential strategies and tools to ensure their children's safety online. Led by speaker Lizzy Appleby\, a licensed clinical social worker who received her Masters of Social Work from University of Chicago School of Social Service Administration\, Lizzy specializes in working with adolescents and their families\, with a particular focus on supporting LGBTQ+ youth. She currently works at Youth Services as their PRIDE/SHARE director.\n\n***EVENT IS OPEN TO THE PUBLIC***
X-ALT-DESC;FMTTYPE=text/html:In this workshop\, parents will learn essential strategies and tools to ensure their children&#39\;s safety online.&nbsp\;Led by speaker Lizzy Appleby\, a licensed clinical social worker who received her Masters of Social Work from University of Chicago School of Social Service Administration\, Lizzy specializes in working with adolescents and their families\, with a particular focus on supporting LGBTQ+ youth. She currently works at Youth Services as their PRIDE/SHARE director.<br />\n<strong>***EVENT IS OPEN TO THE PUBLIC***</strong>
LOCATION:Glenview Public Library Community Room 1930 Glenview Road Hosted by: Youth Services Glenview/Northbrook
UID:e.434.10949
SEQUENCE:3
DTSTAMP:20260420T132457Z
URL:https://business.glenviewchamber.com/events/details/parenting-online-social-media-safety-10949
END:VEVENT

END:VCALENDAR
