BEGIN:VCALENDAR
VERSION:2.0
PRODID:-//ChamberMaster//Event Calendar 2.0//EN
METHOD:PUBLISH
X-PUBLISHED-TTL:P3D
REFRESH-INTERVAL:P3D
CALSCALE:GREGORIAN
BEGIN:VEVENT
DTSTART:20190622T150000Z
DTEND:20190622T210000Z
X-MICROSOFT-CDO-ALLDAYEVENT:FALSE
SUMMARY:Pioneer Day
DESCRIPTION:June 22\, 2019 10 AM - 4PM
X-ALT-DESC;FMTTYPE=text/html:June 22\, 2019 10 AM - 4PM
LOCATION:Free Event
UID:e.434.10164
SEQUENCE:3
DTSTAMP:20260425T173426Z
URL:https://business.glenviewchamber.com/events/details/pioneer-day-10164
END:VEVENT

END:VCALENDAR
