BEGIN:VCALENDAR
VERSION:2.0
PRODID:-//ChamberMaster//Event Calendar 2.0//EN
METHOD:PUBLISH
X-PUBLISHED-TTL:P3D
REFRESH-INTERVAL:P3D
CALSCALE:GREGORIAN
BEGIN:VEVENT
DTSTART:20240503T223000Z
DTEND:20240504T003000Z
X-MICROSOFT-CDO-ALLDAYEVENT:FALSE
SUMMARY:Pizza Mania
DESCRIPTION:Save the date for the best of local pizza all under one roof! Magician\, face painting\, DJ and more family friendly activities. More details to follow.
X-ALT-DESC;FMTTYPE=text/html:Save the date for the best of local pizza all under one roof! Magician\, face painting\, DJ and more family friendly activities. More details to follow.&nbsp\;
LOCATION:Wesley Child Care Center 727 Harlem Glenview
UID:e.434.10941
SEQUENCE:3
DTSTAMP:20260420T112308Z
URL:https://business.glenviewchamber.com/events/details/pizza-mania-10941
END:VEVENT

END:VCALENDAR
