BEGIN:VCALENDAR
VERSION:2.0
PRODID:-//ChamberMaster//Event Calendar 2.0//EN
METHOD:PUBLISH
X-PUBLISHED-TTL:P3D
REFRESH-INTERVAL:P3D
CALSCALE:GREGORIAN
BEGIN:VEVENT
DTSTART:20240126T003000Z
DTEND:20240126T023000Z
X-MICROSOFT-CDO-ALLDAYEVENT:FALSE
SUMMARY:Powerhouse Women in Business Workshop
DESCRIPTION:Powerhouse Women in Business Workshop\n\nWe're cultivating a community infused with the kindest and brightest women in business across the North Shore on a mission to grow themselves and their impact.\n\n\n\nDefine what you want success to look like in 2024 and build a plan for your mindsets\, systems\, and actions to make it your reality! \n\n\n\nFacilitated by Becky Thalmann\, Life and Business Strategist\, from Vivica Partners. Spaces are limited\, so make sure to secure your spot.\n\nLearn more about the workshop team:\n\n@VivicaPartners
X-ALT-DESC;FMTTYPE=text/html:<span style="margin: 0px\; padding: 0px\; border: 0px\; font-variant-numeric: normal\; font-variant-east-asian: normal\; font-variant-alternates: normal\; font-kerning: auto\; font-optical-sizing: auto\; font-feature-settings: normal\; font-variation-settings: normal\; font-variant-position: normal\; font-weight: bolder\; font-stretch: normal\; font-size: 14px\; line-height: 22px\; font-family: AsapRegular\, Arial\, sans-serif\; vertical-align: baseline\; color: rgb(76\, 76\, 83)\; box-sizing: border-box\;">Powerhouse Women in Business Workshop</span><br style="font-variant-numeric: normal\; font-variant-east-asian: normal\; font-variant-alternates: normal\; font-kerning: auto\; font-optical-sizing: auto\; font-feature-settings: normal\; font-variation-settings: normal\; font-variant-position: normal\; font-stretch: normal\; font-size: 14px\; line-height: 22px\; font-family: AsapRegular\, Arial\, sans-serif\; color: rgb(76\, 76\, 83)\; box-sizing: border-box\;" />\n<span style="color: rgb(76\, 76\, 83)\; font-family: AsapRegular\, Arial\, sans-serif\; font-size: 14px\;">We&#39\;re cultivating a community infused with the kindest and brightest women in business across the North Shore on a mission to grow themselves and their impact.</span><br />\n<br />\n<span style="font-size:14px\;">Define what you want success to look like in 2024 and build a plan for your mindsets\, systems\, and actions to make it your reality!&nbsp\;</span><br />\n<br />\n<span style="color: rgb(76\, 76\, 83)\; font-family: AsapRegular\, Arial\, sans-serif\; font-size: 14px\;">Facilitated by Becky Thalmann\, Life and Business Strategist\, from Vivica Partners. Spaces are limited\, so make sure to secure your spot.</span><br />\n<span style="color: rgb(76\, 76\, 83)\; font-family: AsapRegular\, Arial\, sans-serif\; font-size: 14px\;">Learn more about the workshop team:</span><br style="font-variant-numeric: normal\; font-variant-east-asian: normal\; font-variant-alternates: normal\; font-kerning: auto\; font-optical-sizing: auto\; font-feature-settings: normal\; font-variation-settings: normal\; font-variant-position: normal\; font-stretch: normal\; font-size: 14px\; line-height: 22px\; font-family: AsapRegular\, Arial\, sans-serif\; color: rgb(76\, 76\, 83)\; box-sizing: border-box\;" />\n<span style="color: rgb(76\, 76\, 83)\; font-family: AsapRegular\, Arial\, sans-serif\; font-size: 14px\;">@VivicaPartners&nbsp\;</span>
LOCATION:Park Center: Lakeview Room 2400 Chestnut Ave Glenview\, IL
UID:e.434.10884
SEQUENCE:3
DTSTAMP:20260420T130308Z
URL:https://business.glenviewchamber.com/events/details/powerhouse-women-in-business-workshop-10884
END:VEVENT

END:VCALENDAR
