BEGIN:VCALENDAR
VERSION:2.0
PRODID:-//ChamberMaster//Event Calendar 2.0//EN
METHOD:PUBLISH
X-PUBLISHED-TTL:P3D
REFRESH-INTERVAL:P3D
CALSCALE:GREGORIAN
BEGIN:VEVENT
DTSTART:20230129T150000Z
DTEND:20230129T170000Z
X-MICROSOFT-CDO-ALLDAYEVENT:FALSE
SUMMARY:Preschool - 8th Grade Open House at St. Catherine Laboure School
DESCRIPTION:Explore the possibility of enrolling your child at St. Catherine Laboure School (Preschool - 8th Grade) during our Open House event on Sunday\, January 29 from 9am-11am. Come and meet our principal\, pastor\, teachers\, and families! We look forward to seeing you at our upcoming Open House!
X-ALT-DESC;FMTTYPE=text/html:Explore the possibility of enrolling your child at St. Catherine Laboure School (Preschool - 8th Grade) during our Open House event on Sunday\, January 29 from 9am-11am. Come and meet our principal\, pastor\, teachers\, and families! We look forward to seeing you at our upcoming Open House!
LOCATION:3425 Thornwood Avenue\, Glenview\, IL 60026
UID:e.434.10720
SEQUENCE:3
DTSTAMP:20260421T082413Z
URL:https://business.glenviewchamber.com/events/details/preschool-8th-grade-open-house-at-st-catherine-laboure-school-10720
END:VEVENT

END:VCALENDAR
