BEGIN:VCALENDAR
VERSION:2.0
PRODID:-//ChamberMaster//Event Calendar 2.0//EN
METHOD:PUBLISH
X-PUBLISHED-TTL:P3D
REFRESH-INTERVAL:P3D
CALSCALE:GREGORIAN
BEGIN:VEVENT
DTSTART:20230621T150000Z
DTEND:20230621T160000Z
X-MICROSOFT-CDO-ALLDAYEVENT:FALSE
SUMMARY:RTA Group Transit Orientation Presentation
DESCRIPTION:Accessible Metra\, Pace and CTA buses and trains are easy to use and the Regional Transportation Authority (RTA) would love to show you how! We welcome older adults and people with disabilities to join us to learn about accessible public transit options and traveling independently.
X-ALT-DESC;FMTTYPE=text/html:Accessible Metra\, Pace and CTA buses and trains are easy to use and the Regional Transportation Authority (RTA) would love to show you how! We welcome older adults and people with disabilities to join us to learn about accessible public transit options and traveling independently.
LOCATION:Online
UID:e.434.10747
SEQUENCE:3
DTSTAMP:20260421T074136Z
URL:https://business.glenviewchamber.com/events/details/rta-group-transit-orientation-presentation-10747
END:VEVENT

END:VCALENDAR
