BEGIN:VCALENDAR
VERSION:2.0
PRODID:-//ChamberMaster//Event Calendar 2.0//EN
METHOD:PUBLISH
X-PUBLISHED-TTL:P3D
REFRESH-INTERVAL:P3D
CALSCALE:GREGORIAN
BEGIN:VEVENT
DTSTART;VALUE=DATE:20210508
DTEND;VALUE=DATE:20210509
TRANSP:TRANSPARENT
X-MICROSOFT-CDO-ALLDAYEVENT:TRUE
SUMMARY:School of Rock Glenbrook Regrand Opening
DESCRIPTION:Grand Reopening and Staff Show!! Join us and watch the staff rock out with the rest of the staff Saturday\, May 8th from 4-7pm. Live music\, FREE mini lessons\, delicious food\, fresh spring deals...what more can you ask for!\n\n\n\nDate: Saturday\, May 8th\n\nTime: 4-7pm\n\nLocation: 3139 Dundee Rd. Northbrook IL 60062\, Parking Lot\n\nInformation on sponsorship opportunities here:\n\nhttps://chambermaster.blob.core.windows.net/userfiles/UserFiles/chambers/434/File/GlenbrookSponsorshipOptionsOneSheet1.pdf
X-ALT-DESC;FMTTYPE=text/html:<div class="kvgmc6g5 cxmmr5t8 oygrvhab hcukyx3x c1et5uql ii04i59q" style="overflow-wrap: break-word\; margin: 0px\; white-space: pre-wrap\; font-family: &quot\;Segoe UI Historic&quot\;\, &quot\;Segoe UI&quot\;\, Helvetica\, Arial\, sans-serif\; color: rgb(5\, 5\, 5)\; font-size: 15px\;">\n<div dir="auto" style="font-family: inherit\;">Grand Reopening and Staff Show!! Join us and watch the staff rock out with the rest of the staff Saturday\, May 8th from 4-7pm. Live music\, FREE mini lessons\, delicious food\, fresh spring deals...what more can you ask for!</div>\n</div>\n\n<div class="o9v6fnle cxmmr5t8 oygrvhab hcukyx3x c1et5uql ii04i59q" style="overflow-wrap: break-word\; margin: 0.5em 0px 0px\; white-space: pre-wrap\; font-family: &quot\;Segoe UI Historic&quot\;\, &quot\;Segoe UI&quot\;\, Helvetica\, Arial\, sans-serif\; color: rgb(5\, 5\, 5)\; font-size: 15px\;">\n<div dir="auto" style="font-family: inherit\;">Date: Saturday\, May 8th</div>\n\n<div dir="auto" style="font-family: inherit\;">Time: 4-7pm</div>\n\n<div dir="auto" style="font-family: inherit\;">Location: 3139 Dundee Rd. Northbrook IL 60062\, Parking Lot<br />\nInformation on sponsorship opportunities here:<br />\n<a href="https://chambermaster.blob.core.windows.net/userfiles/UserFiles/chambers/434/File/GlenbrookSponsorshipOptionsOneSheet1.pdf">https://chambermaster.blob.core.windows.net/userfiles/UserFiles/chambers/434/File/GlenbrookSponsorshipOptionsOneSheet1.pdf</a></div>\n</div>\n
LOCATION:
UID:e.434.10553
SEQUENCE:3
DTSTAMP:20260422T132644Z
URL:https://business.glenviewchamber.com/events/details/school-of-rock-glenbrook-regrand-opening-10553
END:VEVENT

END:VCALENDAR
