BEGIN:VCALENDAR
VERSION:2.0
PRODID:-//ChamberMaster//Event Calendar 2.0//EN
METHOD:PUBLISH
X-PUBLISHED-TTL:P3D
REFRESH-INTERVAL:P3D
CALSCALE:GREGORIAN
BEGIN:VEVENT
DTSTART:20240918T180000Z
DTEND:20240918T200000Z
X-MICROSOFT-CDO-ALLDAYEVENT:FALSE
SUMMARY:Seniorpalooza
DESCRIPTION:Annual health and fun fair targeted toward the seniors in our community. Become a Sponsor: www.nsymca.org/sponsorships
X-ALT-DESC;FMTTYPE=text/html:Annual health and fun fair targeted toward the seniors in our community. Become a Sponsor: www.nsymca.org/sponsorships
LOCATION:Virtual
UID:e.434.11005
SEQUENCE:3
DTSTAMP:20260420T102408Z
URL:https://business.glenviewchamber.com/events/details/seniorpalooza-09-18-2024-11005
END:VEVENT

END:VCALENDAR
