BEGIN:VCALENDAR
VERSION:2.0
PRODID:-//ChamberMaster//Event Calendar 2.0//EN
METHOD:PUBLISH
X-PUBLISHED-TTL:P3D
REFRESH-INTERVAL:P3D
CALSCALE:GREGORIAN
BEGIN:VEVENT
DTSTART:20201027T150000Z
DTEND:20201027T163000Z
X-MICROSOFT-CDO-ALLDAYEVENT:FALSE
SUMMARY:Sexual Harassment Training
DESCRIPTION:This session will cover:\n\nExplanation of sexual harassment\n\nExamples of unlawful conduct\n\nSummary of federal & state statues\n\nRemedies for victims\n\nEmployer responsibilities
X-ALT-DESC;FMTTYPE=text/html:This session will cover:<br />\nExplanation of sexual harassment<br />\nExamples of unlawful conduct<br />\nSummary of federal &amp\; state statues<br />\nRemedies for victims<br />\nEmployer responsibilities
LOCATION:Zacharias Sexual Abuse Center 4232 Dempster St. Skokie OR 4275 Old Grand Avenue Gurnee
UID:e.434.10471
SEQUENCE:3
DTSTAMP:20260422T210658Z
URL:https://business.glenviewchamber.com/events/details/sexual-harassment-training-10471
END:VEVENT

END:VCALENDAR
