BEGIN:VCALENDAR
VERSION:2.0
PRODID:-//ChamberMaster//Event Calendar 2.0//EN
METHOD:PUBLISH
X-PUBLISHED-TTL:P3D
REFRESH-INTERVAL:P3D
CALSCALE:GREGORIAN
BEGIN:VEVENT
DTSTART;VALUE=DATE:20231101
DTEND;VALUE=DATE:20231102
TRANSP:TRANSPARENT
X-MICROSOFT-CDO-ALLDAYEVENT:TRUE
SUMMARY:Share Your Love for the Chamber and Get Rewarded
DESCRIPTION:If you're a current chamber member and you refer a prospective member who joins before Dec 22\, 2023\, you'll receive $50 off your membership dues for the upcoming year. It's a win-win for both you and your network! Let's grow together. Email your referral to: info@glenviewchamber.com and share the contact information so we can reach out. Questions about the program can be directed to Lauren at lauren@glenviewchamber.com or 847/724-0900.
X-ALT-DESC;FMTTYPE=text/html:If you&#39\;re a current chamber member and you refer a prospective member who joins before Dec 22\, 2023\, you&#39\;ll receive $50 off your membership dues for the upcoming year. It&#39\;s a win-win for both you and your network! Let&#39\;s grow together. Email your referral to: info@glenviewchamber.com and share the contact information so we can reach out. Questions about the program can be directed to Lauren at lauren@glenviewchamber.com or 847/724-0900.
LOCATION:
UID:e.434.10876
SEQUENCE:3
DTSTAMP:20260420T203520Z
URL:https://business.glenviewchamber.com/events/details/share-your-love-for-the-chamber-and-get-rewarded-10876
END:VEVENT

END:VCALENDAR
