BEGIN:VCALENDAR
VERSION:2.0
PRODID:-//ChamberMaster//Event Calendar 2.0//EN
METHOD:PUBLISH
X-PUBLISHED-TTL:P3D
REFRESH-INTERVAL:P3D
CALSCALE:GREGORIAN
BEGIN:VEVENT
DTSTART:20190620T223000Z
DTEND:20190621T000000Z
X-MICROSOFT-CDO-ALLDAYEVENT:FALSE
SUMMARY:Shop\, Swap & Stock
DESCRIPTION:Join us in supporting our neighborhood non-profits: Wings Domestic Violence Shelter & The Northfield Township Food Pantry\n\n\n\nGrab your friends\, bring a bag of unwanted clothes and some dry goods. SHOP the clothes\, SWAP your unwanted items for something fresh\, and STOCK the Northfield Township Food Pantry for families in need. Any clothes left will be donated to WINGS Domestic Violence Shelter. Food and drinks provided.
X-ALT-DESC;FMTTYPE=text/html:Join us in supporting our neighborhood non-profits: Wings Domestic Violence Shelter &amp\; The Northfield Township Food Pantry<br />\n<br />\nGrab your friends\, bring a bag of unwanted clothes and some dry goods. SHOP the clothes\, SWAP your unwanted items for something fresh\, and STOCK the Northfield Township Food Pantry for families in need. Any clothes left will be donated to WINGS Domestic Violence Shelter. Food and drinks provided.&nbsp\;
LOCATION:1820 Waukegan Road Glenview\, IL 60025 (Off Chestnut Ave.\, behind Pizano's Pizza and Pasta)
UID:e.434.10170
SEQUENCE:3
DTSTAMP:20260425T173040Z
URL:https://business.glenviewchamber.com/events/details/shop-swap-stock-10170
END:VEVENT

END:VCALENDAR
