BEGIN:VCALENDAR
VERSION:2.0
PRODID:-//ChamberMaster//Event Calendar 2.0//EN
METHOD:PUBLISH
X-PUBLISHED-TTL:P3D
REFRESH-INTERVAL:P3D
CALSCALE:GREGORIAN
BEGIN:VEVENT
DTSTART:20240925T000000Z
DTEND:20240925T010000Z
X-MICROSOFT-CDO-ALLDAYEVENT:FALSE
SUMMARY:Shoulder Injuries and Disorders
DESCRIPTION:Shoulder injuries and disorders are widespread\, affecting various conditions that influence the shoulder joint\, one of the body's most intricate and flexible joints. Common issues include rotator cuff tears\, dislocations\, impingement syndrome\, frozen shoulder\, instability\, and dislocations. These conditions can result from trauma\, falls\, sports injuries\, or chronic wear and tear\, particularly in activities or occupations that involve repetitive overhead movements. Learn more about the symptoms\, causes\, and treatment options available from Marc Breslow\, MD\, at IBJI. Dr. Marc Breslow is a board-certified orthopedic surgeon with a subspecialty certification in sports medicine. He treats athletes of all ages\, from children to the elderly\, and specializes in treating knee and shoulder problems. He stresses communication with his patients and their families\, educating them about their condition and recommended treatment.
X-ALT-DESC;FMTTYPE=text/html:Shoulder injuries and disorders are widespread\, affecting various conditions that influence the shoulder joint\, one of the body&#39\;s most intricate and flexible joints. Common issues include rotator cuff tears\, dislocations\, impingement syndrome\, frozen shoulder\, instability\, and dislocations. These conditions can result from trauma\, falls\, sports injuries\, or chronic wear and tear\, particularly in activities or occupations that involve repetitive overhead movements. Learn more about the symptoms\, causes\, and treatment options available from Marc Breslow\, MD\, at IBJI. Dr. Marc Breslow is a board-certified orthopedic surgeon with a subspecialty certification in sports medicine. He treats athletes of all ages\, from children to the elderly\, and specializes in treating knee and shoulder problems. He stresses communication with his patients and their families\, educating them about their condition and recommended treatment.
LOCATION:Virtual
UID:e.434.11043
SEQUENCE:3
DTSTAMP:20260420T102128Z
URL:https://business.glenviewchamber.com/events/details/shoulder-injuries-and-disorders-11043
END:VEVENT

END:VCALENDAR
