BEGIN:VCALENDAR
VERSION:2.0
PRODID:-//ChamberMaster//Event Calendar 2.0//EN
METHOD:PUBLISH
X-PUBLISHED-TTL:P3D
REFRESH-INTERVAL:P3D
CALSCALE:GREGORIAN
BEGIN:VEVENT
DTSTART:20240910T160000Z
DTEND:20240910T170000Z
X-MICROSOFT-CDO-ALLDAYEVENT:FALSE
SUMMARY:Solo Aging\, by Choice or by Chance
DESCRIPTION:This program will address the following questions: How does one learn to embrace solo aging? How can I stay connected and explore new interests? How do I ask for support? What do I need to know to retain control as I age?
X-ALT-DESC;FMTTYPE=text/html:This program will address the following questions: How does one learn to embrace solo aging? How can I stay connected and explore new interests? How do I ask for support? What do I need to know to retain control as I age?
LOCATION:Virtual
UID:e.434.11003
SEQUENCE:3
DTSTAMP:20260420T102431Z
URL:https://business.glenviewchamber.com/events/details/solo-aging-by-choice-or-by-chance-11003
END:VEVENT

END:VCALENDAR
