BEGIN:VCALENDAR
VERSION:2.0
PRODID:-//ChamberMaster//Event Calendar 2.0//EN
METHOD:PUBLISH
X-PUBLISHED-TTL:P3D
REFRESH-INTERVAL:P3D
CALSCALE:GREGORIAN
BEGIN:VEVENT
DTSTART:20260502T180000Z
DTEND:20260502T203000Z
X-MICROSOFT-CDO-ALLDAYEVENT:FALSE
SUMMARY:Sound Bath & Neurographic Art Experience
DESCRIPTION:A sound bath uses soothing vibrations from bowls\, gongs\, and chimes to calm the mind\, release tension\, and promote deep relaxation. Neurographic Art uses simple lines and colors to reduce stress\, calm the mind\, and inspire creativity.
X-ALT-DESC;FMTTYPE=text/html:A sound bath uses soothing vibrations from bowls\, gongs\, and chimes to calm the mind\, release tension\, and promote deep relaxation. Neurographic Art uses simple lines and colors to reduce stress\, calm the mind\, and inspire creativity.
LOCATION:2705 Techny Rd. Northbrook. IL 60062
UID:e.434.11793
SEQUENCE:3
DTSTAMP:20260421T204006Z
URL:https://business.glenviewchamber.com/events/details/sound-bath-neurographic-art-experience-05-02-2026-11793
END:VEVENT

END:VCALENDAR
