BEGIN:VCALENDAR
VERSION:2.0
PRODID:-//ChamberMaster//Event Calendar 2.0//EN
METHOD:PUBLISH
X-PUBLISHED-TTL:P3D
REFRESH-INTERVAL:P3D
CALSCALE:GREGORIAN
BEGIN:VEVENT
DTSTART:20210908T223000Z
DTEND:20210909T000000Z
X-MICROSOFT-CDO-ALLDAYEVENT:FALSE
SUMMARY:Special Business After Hours to Celebrate the Business Person and Business of the Year 2020
DESCRIPTION:*********EVENT HAS REACHED CAPACITY\, EMAIL INFO@GLENVIEWCHAMBER.COM TO BE ADDED TO THE WAITLIST*******************\n\nA monthly gathering that helps forge new business relationships and renew existing bonds\, Business After Hours rotates among Member businesses and provides a relaxed\, casual atmosphere. We will be celebrating the Business Person and Business of the Year 2020 during this after hours since we weren't able to gather earlier due to COVID-19.\n\n\n\nThis free event is an excellent opportunity to finish the business day in the company of fellow Members and grow your circle of contacts. Drop by to unwind and connect with your local business community.
X-ALT-DESC;FMTTYPE=text/html:<p><span style="color:#FF0000\;"><span style="font-family: Arial\, sans-serif\;"><strong>*********EVENT HAS REACHED CAPACITY\, EMAIL INFO@GLENVIEWCHAMBER.COM TO BE ADDED TO THE WAITLIST*******************</strong></span></span><br />\n<span style="font-family:&quot\;Arial&quot\;\,&quot\;sans-serif&quot\;\;color:#666666">A monthly gathering that helps forge new business relationships and renew existing bonds\, Business After Hours rotates among Member businesses and provides a relaxed\, casual atmosphere. We will be celebrating the Business Person and Business of the Year 2020 during this after hours since we weren&#39\;t able to gather earlier due to COVID-19.<br />\n<br />\nThis free event is an excellent opportunity to finish the business day in the company of fellow Members and grow your circle of contacts. Drop by to unwind and connect with your local business<span class="apple-converted-space">&nbsp\;</span>community.</span></p>\n\n<p>&nbsp\;</p>\n\n<p align="center" style="text-align: center\;">&nbsp\;</p>\n
LOCATION:Johnny's Kitchen & Tap 1740 Milwaukee Avenue
UID:e.434.7937
SEQUENCE:3
DTSTAMP:20260422T083222Z
URL:https://business.glenviewchamber.com/events/details/special-business-after-hours-to-celebrate-the-business-person-and-business-of-the-year-2020-7937
END:VEVENT

END:VCALENDAR
