BEGIN:VCALENDAR
VERSION:2.0
PRODID:-//ChamberMaster//Event Calendar 2.0//EN
METHOD:PUBLISH
X-PUBLISHED-TTL:P3D
REFRESH-INTERVAL:P3D
CALSCALE:GREGORIAN
BEGIN:VEVENT
DTSTART:20240423T170000Z
DTEND:20240423T183000Z
X-MICROSOFT-CDO-ALLDAYEVENT:FALSE
SUMMARY:State of Healthcare
DESCRIPTION:Join us for the State of Healthcare address by Endeavor Glenbrook Hospital:\n\n\n\nNoon   12:30 Lunch\n\n12:30   1 pm   Presentation with Q & A by Glenbrook Hospital President Maria Knecht\n\n1-1:30 pm        Tour of Cardiovascular Institute\n\n\n\n****This event is at capacity.****
X-ALT-DESC;FMTTYPE=text/html:<p><span style="color:#000000\;"><span style="font-size:12px\;"><span style="font-family:verdana\;">Join us for the State of Healthcare address by Endeavor Glenbrook Hospital:<br />\n<br />\nNoon &ndash\; 12:30 Lunch<br />\n12:30 &ndash\; 1 pm&nbsp\;&nbsp\; Presentation with Q &amp\; A by <span style="letter-spacing: -0.0666667px\;">Glenbrook Hospital President&nbsp\;</span>Maria Knecht<br />\n1-1:30 pm&nbsp\;&nbsp\;&nbsp\;&nbsp\;&nbsp\;&nbsp\;&nbsp\; Tour of Cardiovascular Institute</span></span><br />\n<br />\n<strong><span style="font-size:12px\;"><span style="font-family:verdana\;">****This event is at capacity.****</span></span></strong></span></p>\n
LOCATION:2100 Pfingsten Road Glenview\, IL 60026 Enter through the Pfingsten entrance and proceed to elevator B to the second floor. Directional signs will lead the group to meeting rooms A1 & A2.
UID:e.434.10937
SEQUENCE:3
DTSTAMP:20260420T112721Z
URL:https://business.glenviewchamber.com/events/details/state-of-healthcare-10937
END:VEVENT

END:VCALENDAR
