BEGIN:VCALENDAR
VERSION:2.0
PRODID:-//ChamberMaster//Event Calendar 2.0//EN
METHOD:PUBLISH
X-PUBLISHED-TTL:P3D
REFRESH-INTERVAL:P3D
CALSCALE:GREGORIAN
BEGIN:VEVENT
DTSTART:20201105T140000Z
DTEND:20201105T153000Z
X-MICROSOFT-CDO-ALLDAYEVENT:FALSE
SUMMARY:State of the Village
DESCRIPTION:Mark your calendar to attend the Glenview Chamber's presentation of the State of the Village featuring Village President James Patterson on Thursday\, November 5th President Patterson will give an overview of major issues facing the Village of Glenview and discuss the challenges and opportunities that lie ahead. At the end\, time will be allotted for questions. We encourage all residents and businesses to join us. Further details will be available in the Village's October newsletter and both the Chamber and Village websites.\n\n\n\nThis event sponsored by Wintrust Community Banks - Glenview Bank & Trust\, Northview Bank & Trust.
X-ALT-DESC;FMTTYPE=text/html:Mark your calendar to attend the Glenview Chamber&rsquo\;s presentation of the State of the Village featuring Village President James Patterson on Thursday\, November 5th President Patterson will give an overview of major issues facing the Village of Glenview and discuss the challenges and opportunities that lie ahead. At the end\, time will be allotted for questions. We encourage all residents and businesses to join us. Further details will be available in the Village&rsquo\;s October newsletter and both the Chamber and Village websites.<br />\n<br />\n<strong>This event sponsored by Wintrust Community Banks - Glenview Bank &amp\; Trust\, Northview Bank &amp\; Trust.</strong>
LOCATION:You can watch via Zoom. Register online here to watch via Zoom: https://www.eventbrite.com/e/state-of-the-village-tickets-123514963581
UID:e.434.10385
SEQUENCE:3
DTSTAMP:20260422T185231Z
URL:https://business.glenviewchamber.com/events/details/state-of-the-village-10385
END:VEVENT

END:VCALENDAR
