BEGIN:VCALENDAR
VERSION:2.0
PRODID:-//ChamberMaster//Event Calendar 2.0//EN
METHOD:PUBLISH
X-PUBLISHED-TTL:P3D
REFRESH-INTERVAL:P3D
CALSCALE:GREGORIAN
BEGIN:VEVENT
DTSTART:20211104T130000Z
DTEND:20211104T143000Z
X-MICROSOFT-CDO-ALLDAYEVENT:FALSE
SUMMARY:State of the Village
DESCRIPTION:Mark your calendar to attend the State of the Village presented by Glenview Chamber of Commerce\, League of Women Voters of Glenview/Glencoe and Glenview Values Project. Sponsored by Berkshire Hathaway HomeServices Chicago.  This event is featuring Village President Michael Jenny on Thursday\, November 4th. President Jenny will give an overview of major issues facing the Village of Glenview and discuss the challenges and opportunities that lie ahead. At the end\, time will be allotted for questions. We encourage all residents and businesses to join us.
X-ALT-DESC;FMTTYPE=text/html:<div style="color: rgb(64\, 63\, 66)\; font-family: Arial\, Verdana\, Helvetica\, sans-serif\; font-size: 12px\; white-space: pre-wrap\;"><span style="font-size: 16px\; color: rgb(51\, 51\, 51)\; font-family: Calibri\, Helvetica\, Arial\, sans-serif\;">Mark your calendar to attend the State of the Village presented by Glenview Chamber of Commerce\, </span><span style="font-family: Calibri\, Helvetica\, Arial\, sans-serif\; font-size: 16px\;">League of Women Voters of Glenview/Glencoe and Glenview Values Project.</span> <span style="font-family: Calibri\, Helvetica\, Arial\, sans-serif\; font-size: 16px\;">S</span><span style="font-size: 16px\; color: rgb(51\, 51\, 51)\; font-family: Calibri\, Helvetica\, Arial\, sans-serif\;">ponsored by&nbsp\;</span><span style="font-size: 16px\; color: black\; font-family: Calibri\, Helvetica\, Arial\, sans-serif\;">Berkshire Hathaway HomeServices Chicago.&nbsp\; This event is </span><span style="font-size: 16px\; color: rgb(51\, 51\, 51)\; font-family: Calibri\, Helvetica\, Arial\, sans-serif\;">featuring Village President Michael Jenny on Thursday\, November 4th. President Jenny will give an overview of major issues facing the Village of Glenview and discuss the challenges and opportunities that lie ahead. At the end\, time will be allotted for questions. We encourage all residents and businesses to join us. </span></div>\n
LOCATION:Glenview Public Library Community Room
UID:e.434.10573
SEQUENCE:3
DTSTAMP:20260422T021002Z
URL:https://business.glenviewchamber.com/events/details/state-of-the-village-10573
END:VEVENT

END:VCALENDAR
